BEGIN:VCALENDAR
VERSION:2.0
PRODID:-//Arkiv för Barn i Uppsala - ECPv5.1.6//NONSGML v1.0//EN
CALSCALE:GREGORIAN
METHOD:PUBLISH
X-WR-CALNAME:Arkiv för Barn i Uppsala
X-ORIGINAL-URL:https://arkiv.barniuppsala.se
X-WR-CALDESC:Händelser för Arkiv för Barn i Uppsala
BEGIN:VTIMEZONE
TZID:Europe/Stockholm
BEGIN:DAYLIGHT
TZOFFSETFROM:+0100
TZOFFSETTO:+0200
TZNAME:CEST
DTSTART:20170326T010000
END:DAYLIGHT
BEGIN:STANDARD
TZOFFSETFROM:+0200
TZOFFSETTO:+0100
TZNAME:CET
DTSTART:20171029T010000
END:STANDARD
END:VTIMEZONE
BEGIN:VEVENT
DTSTART;TZID=Europe/Stockholm:20170808T160000
DTEND;TZID=Europe/Stockholm:20170808T160000
DTSTAMP:20260422T030459
CREATED:20170719T120744Z
LAST-MODIFIED:20170719T120744Z
UID:13154-1502208000-1502208000@arkiv.barniuppsala.se
SUMMARY:Uppsala Summer Cinema
DESCRIPTION:Gratis utebio för alla\nTisdagen den 8 augusti anordnas det utebio på Parksnäckan\, en familjefilm och en ungdomsfilm. \nSing handlar om Buster Moon\, en evigt optimistisk koala som ska anordna världens största sångtävling för att rädda sin konkurshotade teater. Barntillåten. Filmen börjar 15.00\, insläpp 14.15. \nMåste gitt handlar om Metin\, en ung man i en av Stockholms förorter där oskrivna lagar gäller och de egna domstolarna alltid har sista ordet. Från 11 år. Filmen börjar 19.00\, insläpp 18.15. \nAlkohol- och drogfritt. \nBild från pixabay.com \n\n 0SHARESDela eventet
URL:https://arkiv.barniuppsala.se/event/13154/
LOCATION:Parksnäckan\, Stadsträdgården\, Uppsala\, 75309\, Sverige
CATEGORIES:Barn,Bio,Sommarlov,Ungdom
ATTACH;FMTTYPE=image/png:https://arkiv.barniuppsala.se/wp-content/uploads/2017/06/film-158157_640.png
GEO:59.851382;17.644544
X-APPLE-STRUCTURED-LOCATION;VALUE=URI;X-ADDRESS=Parksnäckan Stadsträdgården Uppsala 75309 Sverige;X-APPLE-RADIUS=500;X-TITLE=Stadsträdgården:geo:17.644544,59.851382
END:VEVENT
END:VCALENDAR