BEGIN:VCALENDAR
VERSION:2.0
PRODID:-//Arkiv för Barn i Uppsala - ECPv5.1.6//NONSGML v1.0//EN
CALSCALE:GREGORIAN
METHOD:PUBLISH
X-WR-CALNAME:Arkiv för Barn i Uppsala
X-ORIGINAL-URL:https://arkiv.barniuppsala.se
X-WR-CALDESC:Händelser för Arkiv för Barn i Uppsala
BEGIN:VTIMEZONE
TZID:Europe/Stockholm
BEGIN:DAYLIGHT
TZOFFSETFROM:+0100
TZOFFSETTO:+0200
TZNAME:CEST
DTSTART:20170326T010000
END:DAYLIGHT
BEGIN:STANDARD
TZOFFSETFROM:+0200
TZOFFSETTO:+0100
TZNAME:CET
DTSTART:20171029T010000
END:STANDARD
END:VTIMEZONE
BEGIN:VEVENT
DTSTART;TZID=Europe/Stockholm:20170710T120000
DTEND;TZID=Europe/Stockholm:20170710T170000
DTSTAMP:20260421T151450
CREATED:20170704T091607Z
LAST-MODIFIED:20170704T091607Z
UID:13371-1499688000-1499706000@arkiv.barniuppsala.se
SUMMARY:SyskonSKAP Summerlove - kulturverksamhet för barn och unga i Gottsunda
DESCRIPTION:Konst & Kultur för unga\nSyskonSKAP gör kulturverksamhet för barn och unga i Gottsunda:\nEn konstverkstad ledd av Shoutout! äger rum på olika platser i Gottsunda under sommaren. Varje dag händer något nytt spännande\, som på ett eller annat sätt handlar om konst och kultur! \nÅldersgrupp: 6-15 år \nTid: 10 juli – 11 augusti: varje måndag – torsdag kl: 11:00-16:00 \nMellanmål ingår. \nIngen föranmälan. \nMer information hittar du på Facebook Shoutout Syskonskap och på Instagram @shoutoutsyskonskap. \nFrågor inför starten: Erik Annerborn\, 073-693 72 42 \nFrågor under aktivitetsperioden: José David Hildebrand\, 073-682 31 00 \n0SHARESDela eventet
URL:https://arkiv.barniuppsala.se/event/13371/2017-07-10/
LOCATION:Gottsunda centrum\, Valthornsvägen 11\, Uppsala\, 750 25\, Sverige
CATEGORIES:Barn,Kunskap och Lärande,Sommarlov,Ungdom
ATTACH;FMTTYPE=image/jpeg:https://arkiv.barniuppsala.se/wp-content/uploads/2017/05/kultur-e1499163168840.jpg
GEO:59.8093409;17.6295555
X-APPLE-STRUCTURED-LOCATION;VALUE=URI;X-ADDRESS=Gottsunda centrum Valthornsvägen 11 Uppsala 750 25 Sverige;X-APPLE-RADIUS=500;X-TITLE=Valthornsvägen 11:geo:17.6295555,59.8093409
END:VEVENT
END:VCALENDAR