BEGIN:VCALENDAR
VERSION:2.0
PRODID:-//Arkiv för Barn i Uppsala - ECPv5.1.6//NONSGML v1.0//EN
CALSCALE:GREGORIAN
METHOD:PUBLISH
X-WR-CALNAME:Arkiv för Barn i Uppsala
X-ORIGINAL-URL:https://arkiv.barniuppsala.se
X-WR-CALDESC:Händelser för Arkiv för Barn i Uppsala
BEGIN:VTIMEZONE
TZID:Europe/Stockholm
BEGIN:DAYLIGHT
TZOFFSETFROM:+0100
TZOFFSETTO:+0200
TZNAME:CEST
DTSTART:20160327T010000
END:DAYLIGHT
BEGIN:STANDARD
TZOFFSETFROM:+0200
TZOFFSETTO:+0100
TZNAME:CET
DTSTART:20161030T010000
END:STANDARD
END:VTIMEZONE
BEGIN:VEVENT
DTSTART;TZID=Europe/Stockholm:20161127T120000
DTEND;TZID=Europe/Stockholm:20161127T160000
DTSTAMP:20260421T035739
CREATED:20161124T101042Z
LAST-MODIFIED:20161124T101042Z
UID:9366-1480248000-1480262400@arkiv.barniuppsala.se
SUMMARY:Adventsfika i vinterträdgården
DESCRIPTION:Fika i Tropiska växthusets vinterträdgård\n\nUpplev en annorlunda och ljus advent i Tropiska växthusets vinterträdgård. Fika hembakat under palmer och fruktträd. \n\n\nEntréavgift 50 kronor. Fikat säljs separat. Fri entré för barn under 18 år samt för anställda och studenter vid Uppsala universitet. \n\n 0SHARESDela eventet
URL:https://arkiv.barniuppsala.se/event/adventsfika-i-vintertradgarden/
LOCATION:Botaniska trädgården\, Villavägen 8\, Uppsala\, 752 36\, Sverige
CATEGORIES:Djur,Jul,Trädgård
ATTACH;FMTTYPE=image/jpeg:https://arkiv.barniuppsala.se/wp-content/uploads/2016/11/candles-141892_640.jpg
ORGANIZER;CN="Uppsala%20linneanska%20tr%C3%A4dg%C3%A5rdar":MAILTO:bokning@botan.uu.se
GEO:59.8503326;17.6269648
X-APPLE-STRUCTURED-LOCATION;VALUE=URI;X-ADDRESS=Botaniska trädgården Villavägen 8 Uppsala 752 36 Sverige;X-APPLE-RADIUS=500;X-TITLE=Villavägen 8:geo:17.6269648,59.8503326
END:VEVENT
END:VCALENDAR