BEGIN:VCALENDAR
VERSION:2.0
PRODID:-//Arkiv för Barn i Uppsala - ECPv5.1.6//NONSGML v1.0//EN
CALSCALE:GREGORIAN
METHOD:PUBLISH
X-WR-CALNAME:Arkiv för Barn i Uppsala
X-ORIGINAL-URL:https://arkiv.barniuppsala.se
X-WR-CALDESC:Händelser för Arkiv för Barn i Uppsala
BEGIN:VTIMEZONE
TZID:Europe/Stockholm
BEGIN:DAYLIGHT
TZOFFSETFROM:+0100
TZOFFSETTO:+0200
TZNAME:CEST
DTSTART:20160327T010000
END:DAYLIGHT
BEGIN:STANDARD
TZOFFSETFROM:+0200
TZOFFSETTO:+0100
TZNAME:CET
DTSTART:20161030T010000
END:STANDARD
END:VTIMEZONE
BEGIN:VEVENT
DTSTART;TZID=Europe/Stockholm:20160324T143000
DTEND;TZID=Europe/Stockholm:20160324T170000
DTSTAMP:20260421T204937
CREATED:20160318T120239Z
LAST-MODIFIED:20160318T120239Z
UID:6486-1458829800-1458838800@arkiv.barniuppsala.se
SUMMARY:Äggjakten i Norrtälje
DESCRIPTION:Leta efter påskägg i Norrtäljes stadskärna. Jakten börjar på Lilla torget. \n0SHARESDela eventet
URL:https://arkiv.barniuppsala.se/event/aggjakten-i-norrtalje/
LOCATION:Lilla Torget i Norrtälje\, Lilla torget 1\, Norrtälje\, 76130\, Sverige
CATEGORIES:Påsklov
ATTACH;FMTTYPE=image/jpeg:https://arkiv.barniuppsala.se/wp-content/uploads/2016/03/Kaniner.jpg
GEO:59.7580855;18.7056021
X-APPLE-STRUCTURED-LOCATION;VALUE=URI;X-ADDRESS=Lilla Torget i Norrtälje Lilla torget 1 Norrtälje 76130 Sverige;X-APPLE-RADIUS=500;X-TITLE=Lilla torget 1:geo:18.7056021,59.7580855
END:VEVENT
END:VCALENDAR