BEGIN:VCALENDAR
VERSION:2.0
PRODID:-//Arkiv för Barn i Uppsala - ECPv5.1.6//NONSGML v1.0//EN
CALSCALE:GREGORIAN
METHOD:PUBLISH
X-WR-CALNAME:Arkiv för Barn i Uppsala
X-ORIGINAL-URL:https://arkiv.barniuppsala.se
X-WR-CALDESC:Händelser för Arkiv för Barn i Uppsala
BEGIN:VTIMEZONE
TZID:Europe/Stockholm
BEGIN:DAYLIGHT
TZOFFSETFROM:+0100
TZOFFSETTO:+0200
TZNAME:CEST
DTSTART:20180325T010000
END:DAYLIGHT
BEGIN:STANDARD
TZOFFSETFROM:+0200
TZOFFSETTO:+0100
TZNAME:CET
DTSTART:20181028T010000
END:STANDARD
END:VTIMEZONE
BEGIN:VEVENT
DTSTART;TZID=Europe/Stockholm:20180212T090000
DTEND;TZID=Europe/Stockholm:20180212T170000
DTSTAMP:20260420T183442
CREATED:20180207T122805Z
LAST-MODIFIED:20180207T123234Z
UID:18115-1518426000-1518454800@arkiv.barniuppsala.se
SUMMARY:Åk skridskor i Botaniska trädgården!
DESCRIPTION:Skridskobana framför Orangeriet\nNu återupptas en gammal tradition från 1800-talet – skridskoåkning i Botaniska trädgården. \nVälkommen på skridskoåkning i storslagen miljö framför pelartrappan till Orangeriet. Här kan små som stora öva teknik och piruetter. Isen spolas när vädret tillåter. \n\nAnvänd grindarna vid Norbyvägen och Thunbergsvägen 6 för att komma in (öppna kl. 7.00-19.00). Grindarna mot slottet är låsta vintertid. \nBild från pixabay.com \n\n 0SHARESDela eventet
URL:https://arkiv.barniuppsala.se/event/ak-skridskor-botaniska-tradgarden/2018-02-12/
LOCATION:Orangeriet i Botaniska Trädgården\, Thunbergsvägen 6\, Uppsala\, 752 38
CATEGORIES:Barn,Natur
ATTACH;FMTTYPE=image/png:https://arkiv.barniuppsala.se/wp-content/uploads/2018/02/girl-161380_640.png
ORGANIZER;CN="Uppsala%20linneanska%20tr%C3%A4dg%C3%A5rdar":MAILTO:bokning@botan.uu.se
GEO:59.8529469;17.627656
X-APPLE-STRUCTURED-LOCATION;VALUE=URI;X-ADDRESS=Orangeriet i Botaniska Trädgården Thunbergsvägen 6 Uppsala 752 38;X-APPLE-RADIUS=500;X-TITLE=Thunbergsvägen 6:geo:17.627656,59.8529469
END:VEVENT
END:VCALENDAR