BEGIN:VCALENDAR
VERSION:2.0
PRODID:-//Arkiv för Barn i Uppsala - ECPv5.1.6//NONSGML v1.0//EN
CALSCALE:GREGORIAN
METHOD:PUBLISH
X-WR-CALNAME:Arkiv för Barn i Uppsala
X-ORIGINAL-URL:https://arkiv.barniuppsala.se
X-WR-CALDESC:Händelser för Arkiv för Barn i Uppsala
BEGIN:VTIMEZONE
TZID:Europe/Stockholm
BEGIN:DAYLIGHT
TZOFFSETFROM:+0100
TZOFFSETTO:+0200
TZNAME:CEST
DTSTART:20200329T010000
END:DAYLIGHT
BEGIN:STANDARD
TZOFFSETFROM:+0200
TZOFFSETTO:+0100
TZNAME:CET
DTSTART:20201025T010000
END:STANDARD
END:VTIMEZONE
BEGIN:VEVENT
DTSTART;TZID=Europe/Stockholm:20200727T100000
DTEND;TZID=Europe/Stockholm:20200727T140000
DTSTAMP:20260420T154623
CREATED:20200811T084621Z
LAST-MODIFIED:20200811T084621Z
UID:65138-1595844000-1595858400@arkiv.barniuppsala.se
SUMMARY:Allis flyttar ut\, Källparken
DESCRIPTION:Allis flyttar ut\, Källparken\nKom till Källparken i Sala Backe\, Uppsala\, vecka 31 och testa på massor av roliga utomhusaktiviteter med Uppsala kommuns allaktivitetshus Allis. \nDu hittar ledarna och aktiviteterna vid de lila beachflaggorna mellan klockan 10-14 \nMåndag 27/7\nTisdag 28/7\nOnsdag 29/7\nTorsdag 30/7 \nDet kommer att finnas flera olika aktiviteter\, bland annat bollsport\, bungyrun\, sumodräkter och mycket mer! \nObservera att vårdnadshavare ansvarar för barn. \nDatum: måndag 27 juli till och med torsdag 30 juli\nTid: 10:00 – 14:00\nPlats: Källparken\, Sala Backe\, Uppsala\nÅlder: Alla åldrar\nKostnad: Gratis\nAnmälan: Ingen föranmälan \n  \n\nAllis\nAllis är ett allaktivitetshus som drivs av Uppsala kommun. \nAllis har ett brett utbud av aktiviteter och passar alla åldrar. Träningshallarna är anpassade efter olika aktiviteter. Det finns klätterväggar\, parkourhall\, skatehall\, danssal\, fritidsklubb\, pingisbord\, fotbollsspel\, biljard\, gaming center\, gym och café mm. \n\nBesök gärna länkarna nedan (externa länkar öppnas i ett nytt fönster/flik).\nInformation om eventet |  Allis | Allis facebooksida | Andra aktiviteter på sommarlovet \nFoto: Markus Spiske \n0SHARESDela eventet
URL:https://arkiv.barniuppsala.se/event/allis-kallparken/2020-07-27/
LOCATION:Källparken\, Källparksgatan\, Uppsala\, 75434\, Sverige
CATEGORIES:Ålderskategori,Anmälan / Kostnad,Barn,Eventkategorier,Geografisk kategori,Gratis,Ingen föranmälan,Skollov,Sommarlov,Sport & Motion,Ungdom,Uppsala Kommun,? Uppsala
ATTACH;FMTTYPE=image/jpeg:https://arkiv.barniuppsala.se/wp-content/uploads/2020/06/markus-spiske-uVrpmz1ATVg-unsplash-e1593002176440.jpg
ORGANIZER;CN="Allaktivitetshuset%2C%20Allis":MAILTO:allis@uppsala.se
GEO:59.869535;17.674639
X-APPLE-STRUCTURED-LOCATION;VALUE=URI;X-ADDRESS=Källparken Källparksgatan Uppsala 75434 Sverige;X-APPLE-RADIUS=500;X-TITLE=Källparksgatan:geo:17.674639,59.869535
END:VEVENT
END:VCALENDAR