BEGIN:VCALENDAR
VERSION:2.0
PRODID:-//Arkiv för Barn i Uppsala - ECPv5.1.6//NONSGML v1.0//EN
CALSCALE:GREGORIAN
METHOD:PUBLISH
X-WR-CALNAME:Arkiv för Barn i Uppsala
X-ORIGINAL-URL:https://arkiv.barniuppsala.se
X-WR-CALDESC:Händelser för Arkiv för Barn i Uppsala
BEGIN:VTIMEZONE
TZID:Europe/Stockholm
BEGIN:DAYLIGHT
TZOFFSETFROM:+0100
TZOFFSETTO:+0200
TZNAME:CEST
DTSTART:20200329T010000
END:DAYLIGHT
BEGIN:STANDARD
TZOFFSETFROM:+0200
TZOFFSETTO:+0100
TZNAME:CET
DTSTART:20201025T010000
END:STANDARD
END:VTIMEZONE
BEGIN:VEVENT
DTSTART;TZID=Europe/Stockholm:20200731T100000
DTEND;TZID=Europe/Stockholm:20200731T140000
DTSTAMP:20260420T154445
CREATED:20200811T080722Z
LAST-MODIFIED:20200811T080722Z
UID:65154-1596189600-1596204000@arkiv.barniuppsala.se
SUMMARY:Allis flyttar ut\, Storvadsbadet
DESCRIPTION:Allis flyttar ut\, Storvadsbadet\nKom till Storvadsbadet fredag den 31 juli och testa på massor av roliga utomhusaktiviteter med Uppsala kommuns allaktivitetshus Allis. Du hittar ledarna och aktiviteterna vid de lila beachflaggorna. \nDet kommer att finnas många olika aktiviteter\, bland annat bollsport\, bungyrun\, sumodräkter och mycket mer! Aktivitetsledare kommer att finnas på plats mellan kl. 10.00–14.00 vid alla aktiviteter. \nObservera att vårdnadshavare ansvarar för barn. \nDatum: fredag 31 juli\nTid: 10:00 – 14:00\nPlats: Storvadsbadet\nÅlder: Alla åldrar\nKostnad: Gratis\nAnmälan: Ingen föranmälan \n\nHitta hit\nStorvadsbadet ligger i Fyrisån\, i Gamla Uppsala.\nDu kan åka till Storvadsbadet med buss nummer 2\, 110 eller 115. \nOm du tar buss nummer 2 ska du gå av vid hållplats Kungshögarna. Därifrån är det cirka 1 km till badet. \nOm du tar buss nummer 110 eller 115 ska du gå av vid hållplats Gamla Uppsala. Därifrån är det cirka 1 km till badet. \nAllis\nAllis är ett allaktivitetshus som drivs av Uppsala kommun. \nAllis har ett brett utbud av aktiviteter och passar alla åldrar. Träningshallarna är anpassade efter olika aktiviteter. Det finns klätterväggar\, parkourhall\, skatehall\, danssal\, fritidsklubb\, pingisbord\, fotbollsspel\, biljard\, gaming center\, gym och café mm. \n\nBesök gärna länkarna nedan (externa länkar öppnas i ett nytt fönster/flik).\nInformation om eventet |  Allis | Allis facebooksida | Andra aktiviteter på sommarlovet \nFoto: Markus Spiske \n0SHARESDela eventet
URL:https://arkiv.barniuppsala.se/event/allis-storvadsbadet/
LOCATION:storvadsbadet\, Storvad\, Uppsala\, 75440\, Sverige
CATEGORIES:Ålderskategori,Anmälan / Kostnad,Barn,Eventkategorier,Gamla Uppsala,Geografisk kategori,Gratis,Ingen föranmälan,Skollov,Sommarlov,Sport & Motion,Ungdom,? Uppsala
ATTACH;FMTTYPE=image/jpeg:https://arkiv.barniuppsala.se/wp-content/uploads/2020/06/markus-spiske-uVrpmz1ATVg-unsplash-e1593002176440.jpg
ORGANIZER;CN="Allaktivitetshuset%2C%20Allis":MAILTO:allis@uppsala.se
END:VEVENT
END:VCALENDAR