BEGIN:VCALENDAR
VERSION:2.0
PRODID:-//Arkiv för Barn i Uppsala - ECPv5.1.6//NONSGML v1.0//EN
CALSCALE:GREGORIAN
METHOD:PUBLISH
X-WR-CALNAME:Arkiv för Barn i Uppsala
X-ORIGINAL-URL:https://arkiv.barniuppsala.se
X-WR-CALDESC:Händelser för Arkiv för Barn i Uppsala
BEGIN:VTIMEZONE
TZID:Europe/Stockholm
BEGIN:DAYLIGHT
TZOFFSETFROM:+0100
TZOFFSETTO:+0200
TZNAME:CEST
DTSTART:20150329T010000
END:DAYLIGHT
BEGIN:STANDARD
TZOFFSETFROM:+0200
TZOFFSETTO:+0100
TZNAME:CET
DTSTART:20151025T010000
END:STANDARD
END:VTIMEZONE
BEGIN:VEVENT
DTSTART;VALUE=DATE:20151226
DTEND;VALUE=DATE:20160101
DTSTAMP:20260422T030304
CREATED:20151222T105009Z
LAST-MODIFIED:20151222T105009Z
UID:5541-1451098800-1451530799@arkiv.barniuppsala.se
SUMMARY:Allmänhetens åkning
DESCRIPTION:Kl.11.00-14.00 Endast skridskoåkning utan klubbor. \nKl.14.00-17.00 Spel med klubbor tillåtet. \n0SHARESDela eventet
URL:https://arkiv.barniuppsala.se/event/allmanhetens-akning/
LOCATION:Valsätra IP\, Slädv. 1\, Uppsala\, 756 47\, Sverige
ATTACH;FMTTYPE=image/jpeg:https://arkiv.barniuppsala.se/wp-content/uploads/2015/12/Skridsko.jpg
ORGANIZER;CN="Uppsala%20Young%20Hockey%20Club":MAILTO:info@uppsalayoung.se
GEO:59.8221243;17.6260287
X-APPLE-STRUCTURED-LOCATION;VALUE=URI;X-ADDRESS=Valsätra IP Slädv. 1 Uppsala 756 47 Sverige;X-APPLE-RADIUS=500;X-TITLE=Slädv. 1:geo:17.6260287,59.8221243
END:VEVENT
END:VCALENDAR