BEGIN:VCALENDAR
VERSION:2.0
PRODID:-//Arkiv för Barn i Uppsala - ECPv5.1.6//NONSGML v1.0//EN
CALSCALE:GREGORIAN
METHOD:PUBLISH
X-WR-CALNAME:Arkiv för Barn i Uppsala
X-ORIGINAL-URL:https://arkiv.barniuppsala.se
X-WR-CALDESC:Händelser för Arkiv för Barn i Uppsala
BEGIN:VTIMEZONE
TZID:Europe/Stockholm
BEGIN:DAYLIGHT
TZOFFSETFROM:+0100
TZOFFSETTO:+0200
TZNAME:CEST
DTSTART:20170326T010000
END:DAYLIGHT
BEGIN:STANDARD
TZOFFSETFROM:+0200
TZOFFSETTO:+0100
TZNAME:CET
DTSTART:20171029T010000
END:STANDARD
END:VTIMEZONE
BEGIN:VEVENT
DTSTART;TZID=Europe/Stockholm:20170326T120000
DTEND;TZID=Europe/Stockholm:20170326T120000
DTSTAMP:20260420T061654
CREATED:20170320T125212Z
LAST-MODIFIED:20170320T125603Z
UID:11813-1490529600-1490529600@arkiv.barniuppsala.se
SUMMARY:Allsångskonserten Storsjung på Värmlands nation
DESCRIPTION:Ta med dina barn på den årliga allsångskonserten Storsjung på Värmlands nation. \nI år har konserten fått titeln Världens skatt \nStora salen Värmlands nation söndag 26 mars kl 11 och 13.30. \nEtt resesällskap hittar en skattkarta och ger sig ut på skattjakt. De möter många djur och andra figurer och blir tvungna att ta sig fram med både tåg\, cykel och båt. Allt sker med hjälp av sång från barn i förskoleåldern och deras föräldrar. I rollerna och sångledandet syns pedagoger från Uppsala pastorats kyrkor och för kompet står Niklas Dackborns orkester. \nInträde: 40 kr vuxen\, 20 kr barn. Biljetter säljs vid entrén.\nAlla intäkter går oavkortat till behövande barnfamiljer i Uppsala via Diakonins hus. \nStorsjung arrangeras tillsammans med Sensus. \nBild: pixabay.com. \n0SHARESDela eventet
URL:https://arkiv.barniuppsala.se/event/allsangskonserten-storsjung-pa-varmlands/2017-03-26/
LOCATION:Värmlands nation\, Ingmar Bergmansgatan 2\, Uppsala\, 753 10\, Sverige
CATEGORIES:Sång och Musik
ATTACH;FMTTYPE=image/jpeg:https://arkiv.barniuppsala.se/wp-content/uploads/2017/03/resa_karta.jpg
GEO:59.8567845;17.6334158
X-APPLE-STRUCTURED-LOCATION;VALUE=URI;X-ADDRESS=Värmlands nation Ingmar Bergmansgatan 2 Uppsala 753 10 Sverige;X-APPLE-RADIUS=500;X-TITLE=Ingmar Bergmansgatan 2:geo:17.6334158,59.8567845
END:VEVENT
END:VCALENDAR