BEGIN:VCALENDAR
VERSION:2.0
PRODID:-//Arkiv för Barn i Uppsala - ECPv5.1.6//NONSGML v1.0//EN
CALSCALE:GREGORIAN
METHOD:PUBLISH
X-WR-CALNAME:Arkiv för Barn i Uppsala
X-ORIGINAL-URL:https://arkiv.barniuppsala.se
X-WR-CALDESC:Händelser för Arkiv för Barn i Uppsala
BEGIN:VTIMEZONE
TZID:Europe/Stockholm
BEGIN:DAYLIGHT
TZOFFSETFROM:+0100
TZOFFSETTO:+0200
TZNAME:CEST
DTSTART:20150329T010000
END:DAYLIGHT
BEGIN:STANDARD
TZOFFSETFROM:+0200
TZOFFSETTO:+0100
TZNAME:CET
DTSTART:20151025T010000
END:STANDARD
END:VTIMEZONE
BEGIN:VEVENT
DTSTART;TZID=Europe/Stockholm:20151211T160000
DTEND;TZID=Europe/Stockholm:20151211T223000
DTSTAMP:20260421T151829
CREATED:20151208T125927Z
LAST-MODIFIED:20151208T131304Z
UID:4624-1449849600-1449873000@arkiv.barniuppsala.se
SUMMARY:ALM-dagen med gratis elitbandy
DESCRIPTION:Julmarknad \, fika och gratis elitseriebandy mellan Sirius-Vetlanda! Det är några av höjdpunkterna under ALM-dagen på Studenternas. Det blir dessutom Bandykul\, uppvisning av konståkare och cirkuskonster med Uppsala ungdomscirkus! \nTillsammans med Skrotcentralen\, Uppsala Handelsstål och Returspapperscentralen arrangerar Sirius Bandy ALM-dagen 2015. \nFrån 16:00 kommer blir det julmarknad och andra aktiviteter på Studenternas. Kl 19:00 är det sedan dags för Sirius att spela match mot Vetlanda. \nI Relitatältet finns möjlighet att äta\, dricka och värma sig. \nTack vare familjen Alm är hela eventet och fikat gratis! \n0SHARESDela eventet
URL:https://arkiv.barniuppsala.se/event/alm-dagen-med-gratis-elitbandy/
LOCATION:Studenternas IP\, Ulleråkersvägen 6\, Uppsala\, 753 09\, Sverige
CATEGORIES:Jul
GEO:59.8467885;17.6492147
X-APPLE-STRUCTURED-LOCATION;VALUE=URI;X-ADDRESS=Studenternas IP Ulleråkersvägen 6 Uppsala 753 09 Sverige;X-APPLE-RADIUS=500;X-TITLE=Ulleråkersvägen 6:geo:17.6492147,59.8467885
END:VEVENT
END:VCALENDAR