BEGIN:VCALENDAR
VERSION:2.0
PRODID:-//Arkiv för Barn i Uppsala - ECPv5.1.6//NONSGML v1.0//EN
CALSCALE:GREGORIAN
METHOD:PUBLISH
X-WR-CALNAME:Arkiv för Barn i Uppsala
X-ORIGINAL-URL:https://arkiv.barniuppsala.se
X-WR-CALDESC:Händelser för Arkiv för Barn i Uppsala
BEGIN:VTIMEZONE
TZID:Europe/Stockholm
BEGIN:DAYLIGHT
TZOFFSETFROM:+0100
TZOFFSETTO:+0200
TZNAME:CEST
DTSTART:20160327T010000
END:DAYLIGHT
BEGIN:STANDARD
TZOFFSETFROM:+0200
TZOFFSETTO:+0100
TZNAME:CET
DTSTART:20161030T010000
END:STANDARD
END:VTIMEZONE
BEGIN:VEVENT
DTSTART;TZID=Europe/Stockholm:20161103T130000
DTEND;TZID=Europe/Stockholm:20161103T160000
DTSTAMP:20260421T004946
CREATED:20161031T095655Z
LAST-MODIFIED:20161031T102352Z
UID:9002-1478178000-1478188800@arkiv.barniuppsala.se
SUMMARY:Kulturlov: Animera med Ipad
DESCRIPTION:Lov på Håbo bibliotek med temat film. Prova på att göra en animerad film med lerfigurer. \nInga förkunskaper krävs. Ålder 7-13 år. \nObs. Anmälan: sara.hallstrom@habo.se \n  \nNär: Torsdag 3 november kl. 13.00-16.00 \nVar: Håbo bibliotek \n  \nPs. Pysselbordet står framdukat under hela veckan. \n  \nBild från pixabay.com \n0SHARESDela eventet
URL:https://arkiv.barniuppsala.se/event/animera-med-ipad-2/
LOCATION:Håbo bibliotek\, Centrumleden 5\, Bålsta\, 74680\, Sverige
CATEGORIES:Bibliotek,Höstlov,Prova på
ATTACH;FMTTYPE=image/jpeg:https://arkiv.barniuppsala.se/wp-content/uploads/2016/10/Lerfigurer.jpg
GEO:59.568753;17.5290192
X-APPLE-STRUCTURED-LOCATION;VALUE=URI;X-ADDRESS=Håbo bibliotek Centrumleden 5 Bålsta 74680 Sverige;X-APPLE-RADIUS=500;X-TITLE=Centrumleden 5:geo:17.5290192,59.568753
END:VEVENT
END:VCALENDAR