BEGIN:VCALENDAR
VERSION:2.0
PRODID:-//Arkiv för Barn i Uppsala - ECPv5.1.6//NONSGML v1.0//EN
CALSCALE:GREGORIAN
METHOD:PUBLISH
X-WR-CALNAME:Arkiv för Barn i Uppsala
X-ORIGINAL-URL:https://arkiv.barniuppsala.se
X-WR-CALDESC:Händelser för Arkiv för Barn i Uppsala
BEGIN:VTIMEZONE
TZID:Europe/Stockholm
BEGIN:DAYLIGHT
TZOFFSETFROM:+0100
TZOFFSETTO:+0200
TZNAME:CEST
DTSTART:20160327T010000
END:DAYLIGHT
BEGIN:STANDARD
TZOFFSETFROM:+0200
TZOFFSETTO:+0100
TZNAME:CET
DTSTART:20161030T010000
END:STANDARD
END:VTIMEZONE
BEGIN:VEVENT
DTSTART;TZID=Europe/Stockholm:20161101T130000
DTEND;TZID=Europe/Stockholm:20161101T160000
DTSTAMP:20260421T004911
CREATED:20161031T094300Z
LAST-MODIFIED:20161031T102207Z
UID:8996-1478005200-1478016000@arkiv.barniuppsala.se
SUMMARY:Kulturlov: Animera med Ipad
DESCRIPTION:Lov på Håbo bibliotek med tema film. Lär dig animera med hjälp av figurer som exempelvis LEGO och Playmobil. Ta med de figurer du har hemma och vill använda i din animation. Vi arbetar två och två. Slutresultatet blir en egen kortfilm. Med Anna Hazard\, mediepedagog. \nInga förkunskaper krävs. Ålder 7-13 år. \nObs. Anmälan: sara.hallstrom@habo.se \n  \nNär: Tisdag 1 november kl. 13.00-16.00 \nVar: Håbo bibliotek \n  \nPs. Pysselbordet står framdukat under hela veckan. \n  \nBild från pixabay.com \n0SHARESDela eventet
URL:https://arkiv.barniuppsala.se/event/animera-med-ipad/
LOCATION:Håbo bibliotek\, Centrumleden 5\, Bålsta\, 74680\, Sverige
CATEGORIES:Bibliotek,Höstlov,Prova på
ATTACH;FMTTYPE=image/jpeg:https://arkiv.barniuppsala.se/wp-content/uploads/2016/10/Playmobil-kameraman.jpg
GEO:59.568753;17.5290192
X-APPLE-STRUCTURED-LOCATION;VALUE=URI;X-ADDRESS=Håbo bibliotek Centrumleden 5 Bålsta 74680 Sverige;X-APPLE-RADIUS=500;X-TITLE=Centrumleden 5:geo:17.5290192,59.568753
END:VEVENT
END:VCALENDAR