BEGIN:VCALENDAR
VERSION:2.0
PRODID:-//Arkiv för Barn i Uppsala - ECPv5.1.6//NONSGML v1.0//EN
CALSCALE:GREGORIAN
METHOD:PUBLISH
X-WR-CALNAME:Arkiv för Barn i Uppsala
X-ORIGINAL-URL:https://arkiv.barniuppsala.se
X-WR-CALDESC:Händelser för Arkiv för Barn i Uppsala
BEGIN:VTIMEZONE
TZID:Europe/Stockholm
BEGIN:DAYLIGHT
TZOFFSETFROM:+0100
TZOFFSETTO:+0200
TZNAME:CEST
DTSTART:20160327T010000
END:DAYLIGHT
BEGIN:STANDARD
TZOFFSETFROM:+0200
TZOFFSETTO:+0100
TZNAME:CET
DTSTART:20161030T010000
END:STANDARD
END:VTIMEZONE
BEGIN:VEVENT
DTSTART;TZID=Europe/Stockholm:20160424T110000
DTEND;TZID=Europe/Stockholm:20160424T170000
DTSTAMP:20260419T165227
CREATED:20160420T083124Z
LAST-MODIFIED:20160420T083124Z
UID:6826-1461495600-1461517200@arkiv.barniuppsala.se
SUMMARY:Ankdagen
DESCRIPTION:Ankdagen är Uppsala teknolog­ och naturvetarkårs familjedag ämnad för att underhålla barn och barnfamiljer. Med medel som ansiktsmålning\, fiskedamm\, hoppborgar och mycket mer så vill vi skapa en gemytlig och familjär dag för både stor och liten. I år kommer det även finnas möjlighet att besöka det intilliggande byggområdet där samtliga rännare bygger sina flottar inför forsränningen den sista april. För att ingen ska gå hungrig under dagen finns det en mindre försäljning av mat och dryck på området. \nPassa på att besöka Uppsala Vattens sorteringsevent! \n0SHARESDela eventet
URL:https://arkiv.barniuppsala.se/event/ankdagen/
LOCATION:Pollaksbacken\, Lägerhyddsvägen 2\, Uppsala\, 752 37\, Sverige
CATEGORIES:Lärande lek
ATTACH;FMTTYPE=image/png:https://arkiv.barniuppsala.se/wp-content/uploads/2016/04/Anka2-e1461144615462.png
GEO:59.8395773;17.6492545
X-APPLE-STRUCTURED-LOCATION;VALUE=URI;X-ADDRESS=Pollaksbacken Lägerhyddsvägen 2 Uppsala 752 37 Sverige;X-APPLE-RADIUS=500;X-TITLE=Lägerhyddsvägen 2:geo:17.6492545,59.8395773
END:VEVENT
END:VCALENDAR