BEGIN:VCALENDAR
VERSION:2.0
PRODID:-//Arkiv för Barn i Uppsala - ECPv5.1.6//NONSGML v1.0//EN
CALSCALE:GREGORIAN
METHOD:PUBLISH
X-WR-CALNAME:Arkiv för Barn i Uppsala
X-ORIGINAL-URL:https://arkiv.barniuppsala.se
X-WR-CALDESC:Händelser för Arkiv för Barn i Uppsala
BEGIN:VTIMEZONE
TZID:Europe/Stockholm
BEGIN:DAYLIGHT
TZOFFSETFROM:+0100
TZOFFSETTO:+0200
TZNAME:CEST
DTSTART:20150329T010000
END:DAYLIGHT
BEGIN:STANDARD
TZOFFSETFROM:+0200
TZOFFSETTO:+0100
TZNAME:CET
DTSTART:20151025T010000
END:STANDARD
END:VTIMEZONE
BEGIN:VEVENT
DTSTART;TZID=Europe/Stockholm:20151217T190000
DTEND;TZID=Europe/Stockholm:20151217T190000
DTSTAMP:20260419T211158
CREATED:20151216T103646Z
LAST-MODIFIED:20200201T033846Z
UID:4703-1450378800-1450378800@arkiv.barniuppsala.se
SUMMARY:Fotoutställning - Arktisk tundra och kokande fågelberg
DESCRIPTION:Naturfotografen Tomas Lundquist visar från framförallt Alaska och Hornöya i Nordnorge\nVi kommer att få stifta bekantskap med fjälluggla\, lunnefågel och alkfåglar samt en däggdjur och storslagna landskap.\n 0SHARESDela eventet
URL:https://arkiv.barniuppsala.se/event/arktisk-tundra-och-kokande-fagelberg/
LOCATION:Biotopia – Biologiska museet\, Vasagatan 4\, Uppsala\, 753 13\, Sverige
CATEGORIES:Djur
ATTACH;FMTTYPE=image/jpeg:https://arkiv.barniuppsala.se/wp-content/uploads/2015/12/Lunnefågel.jpg
ORGANIZER;CN="Uppsala%20Naturskyddsf%C3%B6rening":MAILTO:s.d.johansson@gmail.com
END:VEVENT
END:VCALENDAR