BEGIN:VCALENDAR
VERSION:2.0
PRODID:-//Arkiv för Barn i Uppsala - ECPv5.1.6//NONSGML v1.0//EN
CALSCALE:GREGORIAN
METHOD:PUBLISH
X-WR-CALNAME:Arkiv för Barn i Uppsala
X-ORIGINAL-URL:https://arkiv.barniuppsala.se
X-WR-CALDESC:Händelser för Arkiv för Barn i Uppsala
BEGIN:VTIMEZONE
TZID:Europe/Stockholm
BEGIN:DAYLIGHT
TZOFFSETFROM:+0100
TZOFFSETTO:+0200
TZNAME:CEST
DTSTART:20200329T010000
END:DAYLIGHT
BEGIN:STANDARD
TZOFFSETFROM:+0200
TZOFFSETTO:+0100
TZNAME:CET
DTSTART:20201025T010000
END:STANDARD
END:VTIMEZONE
BEGIN:VEVENT
DTSTART;TZID=Europe/Stockholm:20201031T130000
DTEND;TZID=Europe/Stockholm:20201031T133000
DTSTAMP:20260423T223353
CREATED:20200907T131450Z
LAST-MODIFIED:20200907T131450Z
UID:67850-1604149200-1604151000@arkiv.barniuppsala.se
SUMMARY:Astons stenar - Teater Pero på Den Lilla Teatern
DESCRIPTION:Astons stenar – Teater Pero på Den Lilla Teatern\nEn föreställning för alla som har fyllt 4 år\nAston hittar sin första sten och ser sig omkring. En del är stora\, andra små\, men alla är det synd om och alla får följa med hem till Aston. Där får stenarna det varmt och mysigt i en egen säng. \nTeater Pero har tagit föreställningen Astons stenar flera varv runt jorden. Historien om den lilla hunden som svämmar över av kärlek för alla frusna stenar har spelats för barn i nästan alla världsdelar. Vart än i världen är igenkänningen lika stor. Barn samlar. Barn pysslar om. Kärleken till tingen flödar. Överallt. \nVåren 2020 har föreställningen spelats i precis 10 år! \nAstons stenar valdes till Bästa föreställning vid KUSS-festivalen i Marburg 2019. \nDatum: Lördagen den 31 oktober 2020\nTid: 13.00\nSpeltid: cirka 30 minuter\nPlats: Den Lilla Teatern\nÅlder: 4 år+\nPris: 100 kr\nAnmälan/biljett: Köpes online på Den Lilla Teaterns hemsida\, eller i god tid via biljetter@denlillateatern.se. \n  \n \nMedverkande \nRegi & scenografi: Peter Engkvist\nMedverkande: Ulf Eriksson\, Bára L Magnúsdóttir\, Magnus Lundblad\nMusik: Ulf Eriksson\nKostym: Lotta L Danfors\nLjus: Anton Sjöstrand\nEfter en bok av: Lotta Geffenblad \n  \n\nDEN LILLA TEATERN\nDen Lilla Teatern är Uppsalas stora och enda barnteaterscen och verkar samtidigt som hemmaarena för den fria teatergruppen Panikteatern. Lokalen är belägen på S:t Persgatan 22 i ett sekelskifteshus från 1880-talet.\nDen Lilla Teaterns verksamhet stöds av Uppsala kommuns kulturnämnd. \n  \nCovid-19 information \nÄndringar i spelschemat kan komma att ske löpande på grund av förändringar av rekommendationer från Regering\, Folkhälsomyndighet och Uppsala kommun. För närvarande (2020-08-28) gäller nedanstående: \nBarnteaterserien “våra föreställningar på helg” kommer att begränsas till en publik om 30 personer per evenemang. Publikbegränsningen syftar till att minska risken för smittspridning av Covid-19. Biljetter kommer att vara platsnumrerade och stolarna i salongen märkta med biljettbokarens namn. Sällskapen placeras ut med minst 1\,5 meters lucka. Salongsdörrarna in till salongen kommer att vara öppna en halvtimme innan föreställnings början. \nBiljettluckan kommer att vara stängd och all försäljning ske via biljettleverantören Kulturbiljetter. Den som inte har möjlighet att boka och betala över internet kan skicka ett mail i god tid till: biljetter@denlillateatern.se. \nUtökade städrutiner före\, mellan och efter varje genomfört evenemang. Två toaletter finns alltid tillgängliga för publiken. Det kommer att finnas handsprit att tillgå. \nLäs mer: Covidinformation på Den Lilla Teatern. \n  \n\nBesök gärna länkarna nedan (externa länkar öppnas i ett nytt fönster/flik).\nTeater Pero | Program på Den Lilla Teatern | Kommande inom teater och bio \nFoto: José Figueroa \n0SHARESDela eventet
URL:https://arkiv.barniuppsala.se/event/astons-stenar-teater-pero-lilla-teatern-oktober-2020/
LOCATION:Den Lilla Teatern\, S:t Persgatan 22\, Uppsala\, 753 29
CATEGORIES:Anmälan,Anmälan / Kostnad,Barn,Barnteater,Centrum,Eventkategorier,För föräldrar,Förköp / Bokning,Geografisk kategori,Teater,Teater och Bio,? Uppsala
ATTACH;FMTTYPE=image/jpeg:https://arkiv.barniuppsala.se/wp-content/uploads/2020/08/AstonPress-06-e1598610143468.jpg
GEO:59.8618076;17.6424759
X-APPLE-STRUCTURED-LOCATION;VALUE=URI;X-ADDRESS=Den Lilla Teatern S:t Persgatan 22 Uppsala 753 29;X-APPLE-RADIUS=500;X-TITLE=S:t Persgatan 22:geo:17.6424759,59.8618076
END:VEVENT
END:VCALENDAR