BEGIN:VCALENDAR
VERSION:2.0
PRODID:-//Arkiv för Barn i Uppsala - ECPv5.1.6//NONSGML v1.0//EN
CALSCALE:GREGORIAN
METHOD:PUBLISH
X-WR-CALNAME:Arkiv för Barn i Uppsala
X-ORIGINAL-URL:https://arkiv.barniuppsala.se
X-WR-CALDESC:Händelser för Arkiv för Barn i Uppsala
BEGIN:VTIMEZONE
TZID:Europe/Stockholm
BEGIN:DAYLIGHT
TZOFFSETFROM:+0100
TZOFFSETTO:+0200
TZNAME:CEST
DTSTART:20160327T010000
END:DAYLIGHT
BEGIN:STANDARD
TZOFFSETFROM:+0200
TZOFFSETTO:+0100
TZNAME:CET
DTSTART:20161030T010000
END:STANDARD
END:VTIMEZONE
BEGIN:VEVENT
DTSTART;TZID=Europe/Stockholm:20160712T140000
DTEND;TZID=Europe/Stockholm:20160712T170000
DTSTAMP:20260421T121131
CREATED:20160712T084648Z
LAST-MODIFIED:20160712T084648Z
UID:7618-1468332000-1468342800@arkiv.barniuppsala.se
SUMMARY:Återbruksslöjd
DESCRIPTION:Vad kan man slöjda av gamla avlagda saker? Nästan vad som helst! Testa återbruksslöjd tillsammans med slöjdexperten Inga-lill Cras. Välkommen till en kreativ eftermiddag med slöjd och skapande i centrum. \nIngen föranmälan. Först till kvarn. Drop in under eftermiddagen i mån av plats. \nPlats: Skattkammaren\, Stadsbiblioteket. \nMålgrupp: 9 år och uppåt \n0SHARESDela eventet
URL:https://arkiv.barniuppsala.se/event/aterbruksslojd/2016-07-12/
LOCATION:Stadsbiblioteket\, Svartbäcksgatan 17\, Uppsala\, 753 75 \, Sverige
CATEGORIES:Pyssel
ORGANIZER;CN="Bibliotek%20Uppsala":MAILTO:kundtjanst@bibliotekuppsala.se
GEO:59.8606206;17.6353278
X-APPLE-STRUCTURED-LOCATION;VALUE=URI;X-ADDRESS=Stadsbiblioteket Svartbäcksgatan 17 Uppsala 753 75  Sverige;X-APPLE-RADIUS=500;X-TITLE=Svartbäcksgatan 17:geo:17.6353278,59.8606206
END:VEVENT
END:VCALENDAR