BEGIN:VCALENDAR
VERSION:2.0
PRODID:-//Arkiv för Barn i Uppsala - ECPv5.1.6//NONSGML v1.0//EN
CALSCALE:GREGORIAN
METHOD:PUBLISH
X-WR-CALNAME:Arkiv för Barn i Uppsala
X-ORIGINAL-URL:https://arkiv.barniuppsala.se
X-WR-CALDESC:Händelser för Arkiv för Barn i Uppsala
BEGIN:VTIMEZONE
TZID:Europe/Stockholm
BEGIN:DAYLIGHT
TZOFFSETFROM:+0100
TZOFFSETTO:+0200
TZNAME:CEST
DTSTART:20150329T010000
END:DAYLIGHT
BEGIN:STANDARD
TZOFFSETFROM:+0200
TZOFFSETTO:+0100
TZNAME:CET
DTSTART:20151025T010000
END:STANDARD
END:VTIMEZONE
BEGIN:VEVENT
DTSTART;TZID=Europe/Stockholm:20151003T130000
DTEND;TZID=Europe/Stockholm:20151003T160000
DTSTAMP:20260420T121829
CREATED:20150901T095006Z
LAST-MODIFIED:20151002T173125Z
UID:3438-1443877200-1443888000@arkiv.barniuppsala.se
SUMMARY:Äventyr och experiment
DESCRIPTION:Roliga äventyr och experiment i med Biotopia i samarbete med Sävjabiblioteket. Barn ska ha en vuxen med sig. Temat för den här dagen är Mineraljakten. \n0SHARESDela eventet
URL:https://arkiv.barniuppsala.se/event/aventyr-och-experiment-2/
LOCATION:Sävja kulturcentrum\, Västgötaresan\, Uppsala\, 757 54\, Sverige
CATEGORIES:Djur,Kunskap och Lärande
ATTACH;FMTTYPE=image/jpeg:https://arkiv.barniuppsala.se/wp-content/uploads/2015/09/Orm.jpg
GEO:59.810706;17.702299
X-APPLE-STRUCTURED-LOCATION;VALUE=URI;X-ADDRESS=Sävja kulturcentrum Västgötaresan Uppsala 757 54 Sverige;X-APPLE-RADIUS=500;X-TITLE=Västgötaresan:geo:17.702299,59.810706
END:VEVENT
END:VCALENDAR