BEGIN:VCALENDAR
VERSION:2.0
PRODID:-//Arkiv för Barn i Uppsala - ECPv5.1.6//NONSGML v1.0//EN
CALSCALE:GREGORIAN
METHOD:PUBLISH
X-WR-CALNAME:Arkiv för Barn i Uppsala
X-ORIGINAL-URL:https://arkiv.barniuppsala.se
X-WR-CALDESC:Händelser för Arkiv för Barn i Uppsala
BEGIN:VTIMEZONE
TZID:Europe/Stockholm
BEGIN:DAYLIGHT
TZOFFSETFROM:+0100
TZOFFSETTO:+0200
TZNAME:CEST
DTSTART:20170326T010000
END:DAYLIGHT
BEGIN:STANDARD
TZOFFSETFROM:+0200
TZOFFSETTO:+0100
TZNAME:CET
DTSTART:20171029T010000
END:STANDARD
END:VTIMEZONE
BEGIN:VEVENT
DTSTART;TZID=Europe/Stockholm:20170303T170000
DTEND;TZID=Europe/Stockholm:20170303T170000
DTSTAMP:20260420T192707
CREATED:20170227T124527Z
LAST-MODIFIED:20170227T125515Z
UID:11505-1488560400-1488560400@arkiv.barniuppsala.se
SUMMARY:Äventyrsbad & Tex Mexbuffé
DESCRIPTION:Äventyrsbad & Tex Mexbuffé på Fyrishov\, perfekt avslutning på arbetsveckan som är roligare än fredagsmys. \nPå fredagar står buffén uppdukad klockan kl. 17-20. Bada när ni vill\, badbiljetterna gäller hela dagen. Äventyrsbadet är öppet till kl. 21.30. \nSläpp loss i badet och fyll på med energi från buffén som är komponerad särskilt med tanke på hungriga barnmagar. Här finns något för de flesta smaker. Måltidsdryck ingår\, naturligtvis är den alkoholfri. \nFamiljepris för 4 personer (max 2 vuxna) 525 kr\, barn 135 kr och vuxna 189 kr. \nVisste du att redan på 1700-talet fanns det en badplats som låg ungefär där Fyrishov ligger idag?\nKolla in hur Lerviken blev Fyrisbadet för att sedan förvandlas till den bad- och idrottsanläggning det är idag på Fyrishovs hemsida \nBild: pixabay.com. \n0SHARESDela eventet
URL:https://arkiv.barniuppsala.se/event/aventyrsbad-tex-mexbuffe/2017-03-03/
LOCATION:Fyrishov\, Idrottsgatan 2\, Uppsala\, 753 33\, Sverige
CATEGORIES:Bad
ATTACH;FMTTYPE=image/jpeg:https://arkiv.barniuppsala.se/wp-content/uploads/2016/12/glada_barn_badar.jpg
GEO:59.8705229;17.6233124
X-APPLE-STRUCTURED-LOCATION;VALUE=URI;X-ADDRESS=Fyrishov Idrottsgatan 2 Uppsala 753 33 Sverige;X-APPLE-RADIUS=500;X-TITLE=Idrottsgatan 2:geo:17.6233124,59.8705229
END:VEVENT
END:VCALENDAR