BEGIN:VCALENDAR
VERSION:2.0
PRODID:-//Arkiv för Barn i Uppsala - ECPv5.1.6//NONSGML v1.0//EN
CALSCALE:GREGORIAN
METHOD:PUBLISH
X-WR-CALNAME:Arkiv för Barn i Uppsala
X-ORIGINAL-URL:https://arkiv.barniuppsala.se
X-WR-CALDESC:Händelser för Arkiv för Barn i Uppsala
BEGIN:VTIMEZONE
TZID:Europe/Stockholm
BEGIN:DAYLIGHT
TZOFFSETFROM:+0100
TZOFFSETTO:+0200
TZNAME:CEST
DTSTART:20170326T010000
END:DAYLIGHT
BEGIN:STANDARD
TZOFFSETFROM:+0200
TZOFFSETTO:+0100
TZNAME:CET
DTSTART:20171029T010000
END:STANDARD
END:VTIMEZONE
BEGIN:VEVENT
DTSTART;TZID=Europe/Stockholm:20170116T093000
DTEND;TZID=Europe/Stockholm:20170116T120000
DTSTAMP:20260420T091803
CREATED:20170111T095535Z
LAST-MODIFIED:20170119T093247Z
UID:10139-1484559000-1484568000@arkiv.barniuppsala.se
SUMMARY:Babymassage
DESCRIPTION:Babymassage\, barnrytmik & sånger \nDet sociala företaget Initcia driver ett integrationsprojekt med stöd av Uppsala kommun. Projektet\, som heter Oledoledoff\, ordnar träffar där man får lära sig babymassage\, baby/barnrytmik och sjunga barnsånger tillsammans. Det är gratis att vara med och grupperna består både av familjer som är nya i Sverige och familjer som är etablerade svenskar. \nBabymassagen fördjupar samspelet och anknytningen mellan barn och förälder stärks. Rytmiken tränar upp rörelseförmågan och ger språkträning genom att övningarna görs till sånger med svensk text\, som på ett lättillgängligt sätt introducerar vardagliga företeelser. \nSpädbarnsmassage\, baby- och barnrytmik är en stund av kommunikation\, massage och glädje. Vi har kul tillsammans\, övar svenska och vi avslutar med en god fika. \nTräffar: \nDatum: Måndagar klockan 9.30-12. Drop-in.\nÅldersgrupp: 0-18 månader & förälder.\nAdress: Föreningshuset Kontakten i Gottsunda centrum\, Valthornsvägen 7. \n  \nFör mer information\, kontakta: najwa.awadallah@initcia.se\nFacebook: www.facebook.com/oledoledoffuppsala\nHemsida: www.initcia.se/projekt \nSprid gärna inbjudan till personen som ni tror kan vara intresserade och personer som jobbar med nyanlända familjer! Tack på förhand! \n  \n0SHARESDela eventet
URL:https://arkiv.barniuppsala.se/event/babymassage/2017-01-16/
LOCATION:Gottsunda centrum\, Valthornsvägen 11\, Uppsala\, 750 25\, Sverige
ATTACH;FMTTYPE=image/png:https://arkiv.barniuppsala.se/wp-content/uploads/2017/01/pastedImage.png
GEO:59.8093409;17.6295555
X-APPLE-STRUCTURED-LOCATION;VALUE=URI;X-ADDRESS=Gottsunda centrum Valthornsvägen 11 Uppsala 750 25 Sverige;X-APPLE-RADIUS=500;X-TITLE=Valthornsvägen 11:geo:17.6295555,59.8093409
END:VEVENT
END:VCALENDAR