BEGIN:VCALENDAR
VERSION:2.0
PRODID:-//Arkiv för Barn i Uppsala - ECPv5.1.6//NONSGML v1.0//EN
CALSCALE:GREGORIAN
METHOD:PUBLISH
X-WR-CALNAME:Arkiv för Barn i Uppsala
X-ORIGINAL-URL:https://arkiv.barniuppsala.se
X-WR-CALDESC:Händelser för Arkiv för Barn i Uppsala
BEGIN:VTIMEZONE
TZID:Europe/Stockholm
BEGIN:DAYLIGHT
TZOFFSETFROM:+0100
TZOFFSETTO:+0200
TZNAME:CEST
DTSTART:20160327T010000
END:DAYLIGHT
BEGIN:STANDARD
TZOFFSETFROM:+0200
TZOFFSETTO:+0100
TZNAME:CET
DTSTART:20161030T010000
END:STANDARD
END:VTIMEZONE
BEGIN:VEVENT
DTSTART;TZID=Europe/Stockholm:20160324T140000
DTEND;TZID=Europe/Stockholm:20160321T170000
DTSTAMP:20260421T191713
CREATED:20160321T124654Z
LAST-MODIFIED:20160321T124654Z
UID:6552-1458828000-1458579600@arkiv.barniuppsala.se
SUMMARY:Babyrytmik för barn 0-1 år
DESCRIPTION:Babyrytmik för barn 0-1 år.\nAlla barn\, 0-1 år\, är tillsammans med föräldrar välkomna till Stadsbibliotekets babyrytmik torsdag 24 mars kl 14. \nI rytmiken rör sig barnen till musik. Barnen utvecklas via sina sinnen och får upplevelsen med sånger\, ramsor\, beröring och rörelse. Man har kul tillsammans! \nLedare är barnbibliotekarie Liselotte Beverlöv. \nGratisbiljetter kan hämtas i informationen på barnavdelningen och hämtas senast 30 minuter innan start.\nBoka biljetter genom att ringa 018-727 17 10 eller mejla till stadsbibli.ung@uppsala.se. \nBarnvagnsparkering finns ute på innergården och lås finns att låna på bibliotekets barnavdelning. \nBild: fotot hämtat från svenskakyrkan.se/karlstadspastorat. \n  \n0SHARESDela eventet
URL:https://arkiv.barniuppsala.se/event/babyrytmik-barn-0-1-ar/
LOCATION:Stadsbiblioteket\, Svartbäcksgatan 17\, Uppsala\, 753 75 \, Sverige
CATEGORIES:Påsklov,Teater och Bio
ATTACH;FMTTYPE=image/jpeg:https://arkiv.barniuppsala.se/wp-content/uploads/2016/03/babyrytmik.jpg
ORGANIZER;CN="Bibliotek%20Uppsala":MAILTO:kundtjanst@bibliotekuppsala.se
GEO:59.8606206;17.6353278
X-APPLE-STRUCTURED-LOCATION;VALUE=URI;X-ADDRESS=Stadsbiblioteket Svartbäcksgatan 17 Uppsala 753 75  Sverige;X-APPLE-RADIUS=500;X-TITLE=Svartbäcksgatan 17:geo:17.6353278,59.8606206
END:VEVENT
END:VCALENDAR