BEGIN:VCALENDAR
VERSION:2.0
PRODID:-//Arkiv för Barn i Uppsala - ECPv5.1.6//NONSGML v1.0//EN
CALSCALE:GREGORIAN
METHOD:PUBLISH
X-WR-CALNAME:Arkiv för Barn i Uppsala
X-ORIGINAL-URL:https://arkiv.barniuppsala.se
X-WR-CALDESC:Händelser för Arkiv för Barn i Uppsala
BEGIN:VTIMEZONE
TZID:Europe/Stockholm
BEGIN:DAYLIGHT
TZOFFSETFROM:+0100
TZOFFSETTO:+0200
TZNAME:CEST
DTSTART:20150329T010000
END:DAYLIGHT
BEGIN:STANDARD
TZOFFSETFROM:+0200
TZOFFSETTO:+0100
TZNAME:CET
DTSTART:20151025T010000
END:STANDARD
END:VTIMEZONE
BEGIN:VEVENT
DTSTART;TZID=Europe/Stockholm:20151128T150000
DTEND;TZID=Europe/Stockholm:20151128T160000
DTSTAMP:20260422T032741
CREATED:20150730T115153Z
LAST-MODIFIED:20150730T115153Z
UID:2925-1448722800-1448726400@arkiv.barniuppsala.se
SUMMARY:Bachs juloratorie för barn
DESCRIPTION:Musik och berättande för barn. \n0SHARESDela eventet
URL:https://arkiv.barniuppsala.se/event/bachs-juloratorie-for-barn/
LOCATION:Uppsala Domkyrka\, Domkyrkoplan 5\, Uppsala\, Sverige
CATEGORIES:Teater och Bio
ATTACH;FMTTYPE=image/jpeg:https://arkiv.barniuppsala.se/wp-content/uploads/2015/07/Ängel.jpg
ORGANIZER;CN="Svenska%20Kyrkan%2C%20Uppsala%20domkyrkof%C3%B6rsamling":MAILTO:e-post uppsala.domkyrko@ svenskakyrkan.se
GEO:59.8584471;17.6332992
X-APPLE-STRUCTURED-LOCATION;VALUE=URI;X-ADDRESS=Uppsala Domkyrka Domkyrkoplan 5 Uppsala Sverige;X-APPLE-RADIUS=500;X-TITLE=Domkyrkoplan 5:geo:17.6332992,59.8584471
END:VEVENT
END:VCALENDAR