BEGIN:VCALENDAR
VERSION:2.0
PRODID:-//Arkiv för Barn i Uppsala - ECPv5.1.6//NONSGML v1.0//EN
CALSCALE:GREGORIAN
METHOD:PUBLISH
X-WR-CALNAME:Arkiv för Barn i Uppsala
X-ORIGINAL-URL:https://arkiv.barniuppsala.se
X-WR-CALDESC:Händelser för Arkiv för Barn i Uppsala
BEGIN:VTIMEZONE
TZID:Europe/Stockholm
BEGIN:DAYLIGHT
TZOFFSETFROM:+0100
TZOFFSETTO:+0200
TZNAME:CEST
DTSTART:20160327T010000
END:DAYLIGHT
BEGIN:STANDARD
TZOFFSETFROM:+0200
TZOFFSETTO:+0100
TZNAME:CET
DTSTART:20161030T010000
END:STANDARD
END:VTIMEZONE
BEGIN:VEVENT
DTSTART;TZID=Europe/Stockholm:20160325T170000
DTEND;TZID=Europe/Stockholm:20160325T200000
DTSTAMP:20260422T001238
CREATED:20160321T115709Z
LAST-MODIFIED:20160321T115709Z
UID:6549-1458925200-1458936000@arkiv.barniuppsala.se
SUMMARY:Bad & TexMex
DESCRIPTION:Bad & TexMex på Fyrishov fredag 25 mars kl 17-20. En rolig kväll i äventyrsbadet med en smarrig TexMexbuffé i restaurangen.\nSläpp loss i badet och fyll på med energi från buffén.\nBuffén är komponerad särskilt med tanke på hungriga barnmagar med köttfärs\, tortillas\, kycklinggryta\, nachos\, guacamole\, vegetarisk böngryta\, fräscha grönsaker och annat gott. Drycken ingår (alkoholfri!). \nVad kostar det? 4 personer (max 2 vuxna) 525 kr. Vuxen 189 kr\, barn 135 kr. \nVad ingår? Badentré\, buffé och måltidsdryck. \nFoto: commons.wikimedia.org. \n0SHARESDela eventet
URL:https://arkiv.barniuppsala.se/event/bad-texmex/
LOCATION:Fyrishov\, Idrottsgatan 2\, Uppsala\, 753 33\, Sverige
CATEGORIES:Bad,Påsklov
ATTACH;FMTTYPE=image/jpeg:https://arkiv.barniuppsala.se/wp-content/uploads/2016/03/fyrishov.jpg
GEO:59.8705229;17.6233124
X-APPLE-STRUCTURED-LOCATION;VALUE=URI;X-ADDRESS=Fyrishov Idrottsgatan 2 Uppsala 753 33 Sverige;X-APPLE-RADIUS=500;X-TITLE=Idrottsgatan 2:geo:17.6233124,59.8705229
END:VEVENT
END:VCALENDAR