BEGIN:VCALENDAR
VERSION:2.0
PRODID:-//Arkiv för Barn i Uppsala - ECPv5.1.6//NONSGML v1.0//EN
CALSCALE:GREGORIAN
METHOD:PUBLISH
X-WR-CALNAME:Arkiv för Barn i Uppsala
X-ORIGINAL-URL:https://arkiv.barniuppsala.se
X-WR-CALDESC:Händelser för Arkiv för Barn i Uppsala
BEGIN:VTIMEZONE
TZID:Europe/Stockholm
BEGIN:DAYLIGHT
TZOFFSETFROM:+0100
TZOFFSETTO:+0200
TZNAME:CEST
DTSTART:20160327T010000
END:DAYLIGHT
BEGIN:STANDARD
TZOFFSETFROM:+0200
TZOFFSETTO:+0100
TZNAME:CET
DTSTART:20161030T010000
END:STANDARD
END:VTIMEZONE
BEGIN:VEVENT
DTSTART;TZID=Europe/Stockholm:20161227T140000
DTEND;TZID=Europe/Stockholm:20161227T150500
DTSTAMP:20260421T070739
CREATED:20161220T094206Z
LAST-MODIFIED:20161220T094206Z
UID:9896-1482847200-1482851100@arkiv.barniuppsala.se
SUMMARY:Bamse och häxans dotter
DESCRIPTION:  \nKrösus Sork finner guld i bävrarnas damm. \nFör att riva dammen och få guldet lurar han häxans dotter Lova att trolla bort Bamse. \nMed Bamse borta är det upp till alla barn att hjälpas åt för att stoppa Krösus – men för att göra det måste man vara sams. \nÅldersgräns: Barntillåten\nSpeltid: 1 timme 5 minuter\nSvenska röster: Morgan Alling\, Steve Kratz\, Tea Stjärne\, Jonas Karlsson Berättarröst: Tomas Bolme \n0SHARESDela eventet
URL:https://arkiv.barniuppsala.se/event/bamse-och-haxans-dotter/
LOCATION:Skutskärs Folkets hus\, Gävlevägen 24\, Skutskär\, 814 31
CATEGORIES:Jul
ATTACH;FMTTYPE=image/jpeg:https://arkiv.barniuppsala.se/wp-content/uploads/2016/12/Bamse_OHD.jpg
GEO:60.6326662;17.4080621
X-APPLE-STRUCTURED-LOCATION;VALUE=URI;X-ADDRESS=Skutskärs Folkets hus Gävlevägen 24 Skutskär 814 31;X-APPLE-RADIUS=500;X-TITLE=Gävlevägen 24:geo:17.4080621,60.6326662
END:VEVENT
END:VCALENDAR