BEGIN:VCALENDAR
VERSION:2.0
PRODID:-//Arkiv för Barn i Uppsala - ECPv5.1.6//NONSGML v1.0//EN
CALSCALE:GREGORIAN
METHOD:PUBLISH
X-WR-CALNAME:Arkiv för Barn i Uppsala
X-ORIGINAL-URL:https://arkiv.barniuppsala.se
X-WR-CALDESC:Händelser för Arkiv för Barn i Uppsala
BEGIN:VTIMEZONE
TZID:Europe/Stockholm
BEGIN:DAYLIGHT
TZOFFSETFROM:+0100
TZOFFSETTO:+0200
TZNAME:CEST
DTSTART:20160327T010000
END:DAYLIGHT
BEGIN:STANDARD
TZOFFSETFROM:+0200
TZOFFSETTO:+0100
TZNAME:CET
DTSTART:20161030T010000
END:STANDARD
END:VTIMEZONE
BEGIN:VEVENT
DTSTART;TZID=Europe/Stockholm:20160618T150000
DTEND;TZID=Europe/Stockholm:20160614T180000
DTSTAMP:20260422T020031
CREATED:20160614T070249Z
LAST-MODIFIED:20160614T070249Z
UID:7337-1466262000-1465927200@arkiv.barniuppsala.se
SUMMARY:Barn i historien
DESCRIPTION:I helgen har Gamla Uppsala museum temat Barn i historien. \nAktiviteten\, som startar kl 14 båda dagarna\, ger alla nyfikna en inblick i hur barnen hade då\, för länge sen. \nPassa på att titta runt för du befinner dig på en av Sveriges viktigaste historiska platser\, det finns massor av spännande saker att upptäcka. \nMuseet är öppet kl 10-16. Barn under 18 i målsmans sällskap går in gratis. Vuxna betalar 80 kr\, biljetten är personlig och berättigar till fria återbesök under hela året \nFoto från uppsala.com. \n  \n0SHARESDela eventet
URL:https://arkiv.barniuppsala.se/event/barn-i-historien/2016-06-18/
LOCATION:Gamla Uppsala museum\, Tingsslätten 1\, 75440 
CATEGORIES:Lärande lek,Museum
ATTACH;FMTTYPE=image/jpeg:https://arkiv.barniuppsala.se/wp-content/uploads/2016/06/Gamla-Uppsala.jpg
GEO:59.8979199;17.6339179
X-APPLE-STRUCTURED-LOCATION;VALUE=URI;X-ADDRESS=Gamla Uppsala museum Tingsslätten 1 75440;X-APPLE-RADIUS=500;X-TITLE=Tingsslätten 1:geo:17.6339179,59.8979199
END:VEVENT
END:VCALENDAR