BEGIN:VCALENDAR
VERSION:2.0
PRODID:-//Arkiv för Barn i Uppsala - ECPv5.1.6//NONSGML v1.0//EN
CALSCALE:GREGORIAN
METHOD:PUBLISH
X-WR-CALNAME:Arkiv för Barn i Uppsala
X-ORIGINAL-URL:https://arkiv.barniuppsala.se
X-WR-CALDESC:Händelser för Arkiv för Barn i Uppsala
BEGIN:VTIMEZONE
TZID:Europe/Stockholm
BEGIN:DAYLIGHT
TZOFFSETFROM:+0100
TZOFFSETTO:+0200
TZNAME:CEST
DTSTART:20150329T010000
END:DAYLIGHT
BEGIN:STANDARD
TZOFFSETFROM:+0200
TZOFFSETTO:+0100
TZNAME:CET
DTSTART:20151025T010000
END:STANDARD
END:VTIMEZONE
BEGIN:VEVENT
DTSTART;TZID=Europe/Stockholm:20150912T190000
DTEND;TZID=Europe/Stockholm:20150912T193000
DTSTAMP:20260419T162900
CREATED:20150908T101308Z
LAST-MODIFIED:20150908T101308Z
UID:3644-1442084400-1442086200@arkiv.barniuppsala.se
SUMMARY:Barnallsång
DESCRIPTION:0SHARESDela eventet
URL:https://arkiv.barniuppsala.se/event/barnallsang/
LOCATION:Missionskyrkan\, S:t Olofsgatan 40\, Uppsala\, 753 32
CATEGORIES:Teater och Bio
ATTACH;FMTTYPE=image/jpeg:https://arkiv.barniuppsala.se/wp-content/uploads/2015/03/3-kompisar-som-sjunger-e1427358833609.jpg
GEO:59.8615973;17.6367168
X-APPLE-STRUCTURED-LOCATION;VALUE=URI;X-ADDRESS=Missionskyrkan S:t Olofsgatan 40 Uppsala 753 32;X-APPLE-RADIUS=500;X-TITLE=S:t Olofsgatan 40:geo:17.6367168,59.8615973
END:VEVENT
END:VCALENDAR