BEGIN:VCALENDAR
VERSION:2.0
PRODID:-//Arkiv för Barn i Uppsala - ECPv5.1.6//NONSGML v1.0//EN
CALSCALE:GREGORIAN
METHOD:PUBLISH
X-WR-CALNAME:Arkiv för Barn i Uppsala
X-ORIGINAL-URL:https://arkiv.barniuppsala.se
X-WR-CALDESC:Händelser för Arkiv för Barn i Uppsala
BEGIN:VTIMEZONE
TZID:Europe/Stockholm
BEGIN:DAYLIGHT
TZOFFSETFROM:+0100
TZOFFSETTO:+0200
TZNAME:CEST
DTSTART:20150329T010000
END:DAYLIGHT
BEGIN:STANDARD
TZOFFSETFROM:+0200
TZOFFSETTO:+0100
TZNAME:CET
DTSTART:20151025T010000
END:STANDARD
END:VTIMEZONE
BEGIN:VEVENT
DTSTART;TZID=Europe/Stockholm:20151003T120000
DTEND;TZID=Europe/Stockholm:20151003T170000
DTSTAMP:20260420T170117
CREATED:20150930T112830Z
LAST-MODIFIED:20150930T112830Z
UID:3876-1443873600-1443891600@arkiv.barniuppsala.se
SUMMARY:Barndagen på Erikshjälpen
DESCRIPTION:Det blir gratis ansiksmålning\, fiskdamm\, sångstund kl. 12.00 och 14.00 med Stina Pettersson. \nSaft och bullar till alla barn. Alla intäkter under dagen går till Världens barn. \n0SHARESDela eventet
URL:https://arkiv.barniuppsala.se/event/barndagen-pa-erikshjalpen/
LOCATION:Erikshjälpen\, Bolandsgatan 8A\, Uppsala\, 753 23\, Sverige
CATEGORIES:Marknad & Loppis,Teater och Bio
ORGANIZER;CN="Erikshj%C3%A4lpen":MAILTO:uppsala@erikshjalpen.se
GEO:59.8560977;17.6730445
X-APPLE-STRUCTURED-LOCATION;VALUE=URI;X-ADDRESS=Erikshjälpen Bolandsgatan 8A Uppsala 753 23 Sverige;X-APPLE-RADIUS=500;X-TITLE=Bolandsgatan 8A:geo:17.6730445,59.8560977
END:VEVENT
END:VCALENDAR