BEGIN:VCALENDAR
VERSION:2.0
PRODID:-//Arkiv för Barn i Uppsala - ECPv5.1.6//NONSGML v1.0//EN
CALSCALE:GREGORIAN
METHOD:PUBLISH
X-WR-CALNAME:Arkiv för Barn i Uppsala
X-ORIGINAL-URL:https://arkiv.barniuppsala.se
X-WR-CALDESC:Händelser för Arkiv för Barn i Uppsala
BEGIN:VTIMEZONE
TZID:Europe/Stockholm
BEGIN:DAYLIGHT
TZOFFSETFROM:+0100
TZOFFSETTO:+0200
TZNAME:CEST
DTSTART:20160327T010000
END:DAYLIGHT
BEGIN:STANDARD
TZOFFSETFROM:+0200
TZOFFSETTO:+0100
TZNAME:CET
DTSTART:20161030T010000
END:STANDARD
END:VTIMEZONE
BEGIN:VEVENT
DTSTART;TZID=Europe/Stockholm:20160703T120000
DTEND;TZID=Europe/Stockholm:20160703T170000
DTSTAMP:20260421T185517
CREATED:20160504T101439Z
LAST-MODIFIED:20160504T101439Z
UID:6950-1467547200-1467565200@arkiv.barniuppsala.se
SUMMARY:Hinderbana för barn i Uppsala
DESCRIPTION:Barnens hinderbana på Amerikanska Fotbollsplanen vid Fyrishov\nSöndagen den 3 juli är barn mellan 7-12 år välkomna till barnens hinderbana på Amerikanska fotbollsplanen vid Fyrishov. \nPris per barn är 340 kr. I priset ingår en startplats\, diplom- och idolkort med autografer från våra gladiatorerna. \nBarn mellan 7-8 år ska vara på plats 10:30 för att delta i gruppfoto med gladiatorerna 10:45\, hinderbanan är tillgänglig för aktivitet från och med 11:00 \nBarn mellan 9-10 år ska vara på plats 12:00 för att delta i gruppfoto med gladiatorerna 12:15\, hinderbanan är tillgänglig för aktivitet från och med 12:30 \nBarn mellan 11-12 år ska vara på plats 13:30 för att delta i gruppfoto med gladiatorerna 13:45\, hinderbanan är tillgänglig för aktivitet från och med 14:00 \nLag som består av fler än 10 deltagare ska vara på plats 13:30 för att delta i gruppfoto med gladiatorerna 13:45\, start efter 11-12 årsgruppen som en lag-final! \nBoka i förtid! \n0SHARESDela eventet
URL:https://arkiv.barniuppsala.se/event/barnens-hinderbana-uppsala/
LOCATION:Fyrishov\, Idrottsgatan 2\, Uppsala\, 753 33\, Sverige
ATTACH;FMTTYPE=image/jpeg:https://arkiv.barniuppsala.se/wp-content/uploads/2016/05/climb-427277_960_720-1-e1462358520953.jpg
ORGANIZER;CN="Barnens%20hinderbana%20Uppsala":MAILTO:idrott@barnenshinderbana.se
GEO:59.8705229;17.6233124
X-APPLE-STRUCTURED-LOCATION;VALUE=URI;X-ADDRESS=Fyrishov Idrottsgatan 2 Uppsala 753 33 Sverige;X-APPLE-RADIUS=500;X-TITLE=Idrottsgatan 2:geo:17.6233124,59.8705229
END:VEVENT
END:VCALENDAR