BEGIN:VCALENDAR
VERSION:2.0
PRODID:-//Arkiv för Barn i Uppsala - ECPv5.1.6//NONSGML v1.0//EN
CALSCALE:GREGORIAN
METHOD:PUBLISH
X-WR-CALNAME:Arkiv för Barn i Uppsala
X-ORIGINAL-URL:https://arkiv.barniuppsala.se
X-WR-CALDESC:Händelser för Arkiv för Barn i Uppsala
BEGIN:VTIMEZONE
TZID:Europe/Stockholm
BEGIN:DAYLIGHT
TZOFFSETFROM:+0100
TZOFFSETTO:+0200
TZNAME:CEST
DTSTART:20160327T010000
END:DAYLIGHT
BEGIN:STANDARD
TZOFFSETFROM:+0200
TZOFFSETTO:+0100
TZNAME:CET
DTSTART:20161030T010000
END:STANDARD
END:VTIMEZONE
BEGIN:VEVENT
DTSTART;TZID=Europe/Stockholm:20160629T130000
DTEND;TZID=Europe/Stockholm:20160629T150000
DTSTAMP:20260421T220326
CREATED:20160530T092731Z
LAST-MODIFIED:20200209T143929Z
UID:7177-1467205200-1467212400@arkiv.barniuppsala.se
SUMMARY:Barnens parksommar
DESCRIPTION:Barnens parksommar i parksnäckan\nUnder sommaren 2016 är det fritt inträde till Barnens parksommar som pågår under sex onsdagar\, och startar 29/6 2016. Det sker strax utanför Parksnäckan och Café Gula Villan i Uppsala Stadsträdgård. Det är fri entré till scenprogrammet (kl 14) och hela aktivitetsområdet (kl 13-15). \nDetta ingår i fri entré: Scenshow\, burkkastning\, sagobuss\, pysselhörna\, hoppborg\, hästskokastning\, instrumentstuga\, krama Parksnäckans ekorre\, kasta basketboll. Utöver det blir det inslag på olika datum där bl. a. Polisen\, Brandförsvaret\, BarnZumba\, Fysikfarbrorn\, Titta en Viking\, Gosedjursakuten m. fl. kommer på besök. Se hemsida www.parksnackan.se och annonser för exakt innehåll respektive dag. \nMot avgift: Ponnyridning\, ansiktsmålning\, gör-din-egen-knapp\, fiskdamm\, chokladhjul\, lotteri\, glasskiosk\, fikaservering. \nOmrådet öppnar kl 13 och stänger kl 15.\nScenshow på stora scenen\, börjar alltid kl 14.\nCafe Gula Villan har öppet kl 10-18. \n  \n0SHARESDela eventet
URL:https://arkiv.barniuppsala.se/event/barnens-parksommar-2/2016-06-29/
LOCATION:Parksnäckan\, Stadsträdgården\, Uppsala\, 75309\, Sverige
CATEGORIES:Djur,Spel & tävling,Utomhusaktivitet
ATTACH;FMTTYPE=image/jpeg:https://arkiv.barniuppsala.se/wp-content/uploads/2016/03/kids-1099709_960_720.jpg
GEO:59.851382;17.644544
X-APPLE-STRUCTURED-LOCATION;VALUE=URI;X-ADDRESS=Parksnäckan Stadsträdgården Uppsala 75309 Sverige;X-APPLE-RADIUS=500;X-TITLE=Stadsträdgården:geo:17.644544,59.851382
END:VEVENT
END:VCALENDAR