BEGIN:VCALENDAR
VERSION:2.0
PRODID:-//Arkiv för Barn i Uppsala - ECPv5.1.6//NONSGML v1.0//EN
CALSCALE:GREGORIAN
METHOD:PUBLISH
X-WR-CALNAME:Arkiv för Barn i Uppsala
X-ORIGINAL-URL:https://arkiv.barniuppsala.se
X-WR-CALDESC:Händelser för Arkiv för Barn i Uppsala
BEGIN:VTIMEZONE
TZID:Europe/Stockholm
BEGIN:DAYLIGHT
TZOFFSETFROM:+0100
TZOFFSETTO:+0200
TZNAME:CEST
DTSTART:20170326T010000
END:DAYLIGHT
BEGIN:STANDARD
TZOFFSETFROM:+0200
TZOFFSETTO:+0100
TZNAME:CET
DTSTART:20171029T010000
END:STANDARD
END:VTIMEZONE
BEGIN:VEVENT
DTSTART;TZID=Europe/Stockholm:20170414T110000
DTEND;TZID=Europe/Stockholm:20170414T140000
DTSTAMP:20260423T034528
CREATED:20170125T110708Z
LAST-MODIFIED:20170406T065450Z
UID:10487-1492167600-1492178400@arkiv.barniuppsala.se
SUMMARY:Barnloppis på Gräsö
DESCRIPTION:Barnloppis på Gräsö \nLångfredagen den 14 april 2017 kl.10-13 i Gräsö skola. Vår-och sommartema. \nDu lämnar in det du vill sälja och som har med barn att göra t.ex. leksaker\, kläder stl. 44-170\, skor\, sommaraktivitet\, babytillbehör\, mammakläder m.m. DU lämnar in och de som jobbar på barnloppisen säljer\, för detta utgår en förmedlingsprovision på 20 %. Din förtjänst betalas på ditt konto eller via Swish. Överskjutande provision skänks till välgörenhet. \nFika och korv finns till försäljning. \nFör mer information se Facebook-sidan ”Barnloppis på Gräsö” eller mejla till barnloppispagraso@hotmail.com. \nVälkommen! \n0SHARESDela eventet
URL:https://arkiv.barniuppsala.se/event/barnloppis-pa-graso/
LOCATION:Gräsö skola\, Sverige
CATEGORIES:Natur,Ungdom
ATTACH;FMTTYPE=image/jpeg:https://arkiv.barniuppsala.se/wp-content/uploads/2017/01/animal-83043_960_720.jpg
GEO:60.128161;18.643501
END:VEVENT
END:VCALENDAR