BEGIN:VCALENDAR
VERSION:2.0
PRODID:-//Arkiv för Barn i Uppsala - ECPv5.1.6//NONSGML v1.0//EN
CALSCALE:GREGORIAN
METHOD:PUBLISH
X-WR-CALNAME:Arkiv för Barn i Uppsala
X-ORIGINAL-URL:https://arkiv.barniuppsala.se
X-WR-CALDESC:Händelser för Arkiv för Barn i Uppsala
BEGIN:VTIMEZONE
TZID:Europe/Stockholm
BEGIN:DAYLIGHT
TZOFFSETFROM:+0100
TZOFFSETTO:+0200
TZNAME:CEST
DTSTART:20150329T010000
END:DAYLIGHT
BEGIN:STANDARD
TZOFFSETFROM:+0200
TZOFFSETTO:+0100
TZNAME:CET
DTSTART:20151025T010000
END:STANDARD
END:VTIMEZONE
BEGIN:VEVENT
DTSTART;TZID=Europe/Stockholm:20150913T131500
DTEND;TZID=Europe/Stockholm:20150913T143000
DTSTAMP:20260419T193911
CREATED:20150901T071426Z
LAST-MODIFIED:20150901T071426Z
UID:3395-1442150100-1442154600@arkiv.barniuppsala.se
SUMMARY:Barnridning på UPK
DESCRIPTION:På barnridningstillfällen kan små barn komma och sitta till häst under en skrittur i skogen. \n0SHARESDela eventet
URL:https://arkiv.barniuppsala.se/event/barnridning-pa-upk-2/
LOCATION:Uppsala Ponnyklubb\, Vaksala-Lunda 33\, Uppsala\, 755 94
CATEGORIES:Djur
ATTACH;FMTTYPE=image/jpeg:https://arkiv.barniuppsala.se/wp-content/uploads/2015/09/Ponny.jpg
GEO:59.9122213;17.7359824
X-APPLE-STRUCTURED-LOCATION;VALUE=URI;X-ADDRESS=Uppsala Ponnyklubb Vaksala-Lunda 33 Uppsala 755 94;X-APPLE-RADIUS=500;X-TITLE=Vaksala-Lunda 33:geo:17.7359824,59.9122213
END:VEVENT
END:VCALENDAR