BEGIN:VCALENDAR
VERSION:2.0
PRODID:-//Arkiv för Barn i Uppsala - ECPv5.1.6//NONSGML v1.0//EN
CALSCALE:GREGORIAN
METHOD:PUBLISH
X-WR-CALNAME:Arkiv för Barn i Uppsala
X-ORIGINAL-URL:https://arkiv.barniuppsala.se
X-WR-CALDESC:Händelser för Arkiv för Barn i Uppsala
BEGIN:VTIMEZONE
TZID:Europe/Stockholm
BEGIN:DAYLIGHT
TZOFFSETFROM:+0100
TZOFFSETTO:+0200
TZNAME:CEST
DTSTART:20170326T010000
END:DAYLIGHT
BEGIN:STANDARD
TZOFFSETFROM:+0200
TZOFFSETTO:+0100
TZNAME:CET
DTSTART:20171029T010000
END:STANDARD
END:VTIMEZONE
BEGIN:VEVENT
DTSTART;TZID=Europe/Stockholm:20170318T150000
DTEND;TZID=Europe/Stockholm:20170318T160000
DTSTAMP:20260421T121429
CREATED:20170223T105244Z
LAST-MODIFIED:20170315T093430Z
UID:11339-1489849200-1489852800@arkiv.barniuppsala.se
SUMMARY:Barnteater - Jorden runt med två gitarrer; hur låter världens musik?
DESCRIPTION:Barnteater – Jorden runt med två gitarrer \nAv teatergruppen The Gothenburg Combo på lilla teatern för dig som är 3-6 år. \n\nOm föreställningen:\nDavid och Thomas älskar att leka.\nMen mest av allt älskar de musik och att spela gitarr! Men de har en fråga: hur låter världens musik?\nI ett bildspel fullt av djur\, barn och människor från olika delar av vår jord får vi Skype-kontakt.\nVet flodhästen hur världens musik låter i Afrika? Vet fru Pingvin hur världens musik låter på Antarktis? Och vad håller den luriga herr Björn på med egentligen? Vi får höra musik komponerad av David och Thomas ”The Seven Continents” men också musik av Bach\, Villa-Lobos\, Rossini och förstås Herr Björns sång som alla gosedjur och barn kan sjunga med i. Två världsartister spelar gitarr så att man nästan inte tror att det är på riktigt.\n\nKostnad: 90 kr\n\n\n\n\n\nPå denna adress kan du förboka biljetter.\nBiljetter kan också bokas genom att ringa lilla teatern på telefon 018-13 15 56.\n(Bokade biljetter via telefon hämtas ut senast ut 15 minuter innan föreställnings början).\n\n\nFör mer information om teatern och om föreställningen\, klicka här.\nTeatergruppen The Gothenburg combos hemsida finner du här.\n\n\nBild hämtad från Lilla teaterns hemsida.\n\n\n 0SHARESDela eventet
URL:https://arkiv.barniuppsala.se/event/barnteater-jorden-runt-med-tva-gitarrer/
LOCATION:Den Lilla Teatern\, S:t Persgatan 22\, Uppsala\, 753 29
CATEGORIES:Sång och Musik,Teater
ATTACH;FMTTYPE=image/jpeg:https://arkiv.barniuppsala.se/wp-content/uploads/2014/12/teater-e1448282644930.jpg
GEO:59.8618076;17.6424759
X-APPLE-STRUCTURED-LOCATION;VALUE=URI;X-ADDRESS=Den Lilla Teatern S:t Persgatan 22 Uppsala 753 29;X-APPLE-RADIUS=500;X-TITLE=S:t Persgatan 22:geo:17.6424759,59.8618076
END:VEVENT
END:VCALENDAR