BEGIN:VCALENDAR
VERSION:2.0
PRODID:-//Arkiv för Barn i Uppsala - ECPv5.1.6//NONSGML v1.0//EN
CALSCALE:GREGORIAN
METHOD:PUBLISH
X-WR-CALNAME:Arkiv för Barn i Uppsala
X-ORIGINAL-URL:https://arkiv.barniuppsala.se
X-WR-CALDESC:Händelser för Arkiv för Barn i Uppsala
BEGIN:VTIMEZONE
TZID:Europe/Stockholm
BEGIN:DAYLIGHT
TZOFFSETFROM:+0100
TZOFFSETTO:+0200
TZNAME:CEST
DTSTART:20150329T010000
END:DAYLIGHT
BEGIN:STANDARD
TZOFFSETFROM:+0200
TZOFFSETTO:+0100
TZNAME:CET
DTSTART:20151025T010000
END:STANDARD
END:VTIMEZONE
BEGIN:VEVENT
DTSTART;TZID=Europe/Stockholm:20151129T130000
DTEND;TZID=Europe/Stockholm:20151123T170000
DTSTAMP:20260422T111013
CREATED:20151123T125156Z
LAST-MODIFIED:20151123T125156Z
UID:4467-1448802000-1448298000@arkiv.barniuppsala.se
SUMMARY:Barnteater
DESCRIPTION:Den vackraste visan om livet självt\, spelas av Friteatern på Den Lilla Teatern. För barn 3-10 år. \nSöndag 29 november kl 13. \nEn barnteater som alla hänger med i på lika villkor oavsett modersmål. Det är musiken och det fysiska uttrycket som driver handlingen framåt. En hyllning till dom som i alla fall försöker\, för även om dom inte når fram till det tänkta\, läggs kanske i deras händer en oanad möjlighet. \nBild: http://scenkonstportalen.riksteatern.se/produktion/1956. \n0SHARESDela eventet
URL:https://arkiv.barniuppsala.se/event/barnteater/
LOCATION:Den Lilla Teatern\, S:t Persgatan 22\, Uppsala\, 753 29
CATEGORIES:Teater och Bio
ATTACH;FMTTYPE=image/jpeg:https://arkiv.barniuppsala.se/wp-content/uploads/2014/12/teater-e1448282644930.jpg
GEO:59.8618076;17.6424759
X-APPLE-STRUCTURED-LOCATION;VALUE=URI;X-ADDRESS=Den Lilla Teatern S:t Persgatan 22 Uppsala 753 29;X-APPLE-RADIUS=500;X-TITLE=S:t Persgatan 22:geo:17.6424759,59.8618076
END:VEVENT
END:VCALENDAR