BEGIN:VCALENDAR
VERSION:2.0
PRODID:-//Arkiv för Barn i Uppsala - ECPv5.1.6//NONSGML v1.0//EN
CALSCALE:GREGORIAN
METHOD:PUBLISH
X-WR-CALNAME:Arkiv för Barn i Uppsala
X-ORIGINAL-URL:https://arkiv.barniuppsala.se
X-WR-CALDESC:Händelser för Arkiv för Barn i Uppsala
BEGIN:VTIMEZONE
TZID:Europe/Stockholm
BEGIN:DAYLIGHT
TZOFFSETFROM:+0100
TZOFFSETTO:+0200
TZNAME:CEST
DTSTART:20180325T010000
END:DAYLIGHT
BEGIN:STANDARD
TZOFFSETFROM:+0200
TZOFFSETTO:+0100
TZNAME:CET
DTSTART:20181028T010000
END:STANDARD
END:VTIMEZONE
BEGIN:VEVENT
DTSTART;TZID=Europe/Stockholm:20180217T110000
DTEND;TZID=Europe/Stockholm:20180217T120000
DTSTAMP:20260419T232458
CREATED:20180202T084944Z
LAST-MODIFIED:20180202T084944Z
UID:18059-1518865200-1518868800@arkiv.barniuppsala.se
SUMMARY:Barnvisor från sagornas värld med tecken som stöd
DESCRIPTION:Barnvisor på Storvretabiblioteket\nKom och sjung sånger om bland annat Pippi\, Mamma Mu\, trollkarlen och Babblarna! Logoped och musiker Emma Dahlin Haglund spelar och sjunger med barn 2–6 år. \nBegränsat antal platser. Föranmälan till biblioteket. \nTid och plats\nLördag 17 februari 11:00–12:00 \nLördag 7 april 11:00–12:00 \nStorvretabiblioteket \nBild från pixabay.com \n0SHARESDela eventet
URL:https://arkiv.barniuppsala.se/event/barnvisor-fran-sagornas-varld-med-tecken-som-stod/2018-02-17/
LOCATION:Storvretabiblioteket\, Fullerövägen 1\, Storvreta\, 743 32\, Sverige
CATEGORIES:Barn,Sagostund – barn,Sång och Musik
ATTACH;FMTTYPE=image/jpeg:https://arkiv.barniuppsala.se/wp-content/uploads/2018/02/dragon-1085225_640-1.jpg
ORGANIZER;CN="Storvretabiblioteket":MAILTO:storvretabiblioteket@uppsala.se
GEO:59.960157;17.7033815
X-APPLE-STRUCTURED-LOCATION;VALUE=URI;X-ADDRESS=Storvretabiblioteket Fullerövägen 1 Storvreta 743 32 Sverige;X-APPLE-RADIUS=500;X-TITLE=Fullerövägen 1:geo:17.7033815,59.960157
END:VEVENT
END:VCALENDAR