BEGIN:VCALENDAR
VERSION:2.0
PRODID:-//Arkiv för Barn i Uppsala - ECPv5.1.6//NONSGML v1.0//EN
CALSCALE:GREGORIAN
METHOD:PUBLISH
X-WR-CALNAME:Arkiv för Barn i Uppsala
X-ORIGINAL-URL:https://arkiv.barniuppsala.se
X-WR-CALDESC:Händelser för Arkiv för Barn i Uppsala
BEGIN:VTIMEZONE
TZID:Europe/Stockholm
BEGIN:DAYLIGHT
TZOFFSETFROM:+0100
TZOFFSETTO:+0200
TZNAME:CEST
DTSTART:20150329T010000
END:DAYLIGHT
BEGIN:STANDARD
TZOFFSETFROM:+0200
TZOFFSETTO:+0100
TZNAME:CET
DTSTART:20151025T010000
END:STANDARD
END:VTIMEZONE
BEGIN:VEVENT
DTSTART;TZID=Europe/Stockholm:20150912T150000
DTEND;TZID=Europe/Stockholm:20150913T154000
DTSTAMP:20260420T064824
CREATED:20150908T090938Z
LAST-MODIFIED:20150908T090938Z
UID:3632-1442070000-1442158800@arkiv.barniuppsala.se
SUMMARY:Benny Brun tänker till
DESCRIPTION:Benny åker omkring på sin sparkcykel och tänker på livets stora och svåra frågor. \nPassar barn ca 0-5 år och visas klockan 14 både lördag och söndag. \n0SHARESDela eventet
URL:https://arkiv.barniuppsala.se/event/benny-brun-tanker-till/
LOCATION:Fyrisbiografen\, S:t Olofsgatan 10\, Uppsala\, 75312\, Sverige
CATEGORIES:Bio
ATTACH;FMTTYPE=image/jpeg:https://arkiv.barniuppsala.se/wp-content/uploads/2015/08/Popcorn.jpg
GEO:59.8579889;17.6286964
X-APPLE-STRUCTURED-LOCATION;VALUE=URI;X-ADDRESS=Fyrisbiografen S:t Olofsgatan 10 Uppsala 75312 Sverige;X-APPLE-RADIUS=500;X-TITLE=S:t Olofsgatan 10:geo:17.6286964,59.8579889
END:VEVENT
END:VCALENDAR