BEGIN:VCALENDAR
VERSION:2.0
PRODID:-//Arkiv för Barn i Uppsala - ECPv5.1.6//NONSGML v1.0//EN
CALSCALE:GREGORIAN
METHOD:PUBLISH
X-WR-CALNAME:Arkiv för Barn i Uppsala
X-ORIGINAL-URL:https://arkiv.barniuppsala.se
X-WR-CALDESC:Händelser för Arkiv för Barn i Uppsala
BEGIN:VTIMEZONE
TZID:Europe/Stockholm
BEGIN:DAYLIGHT
TZOFFSETFROM:+0100
TZOFFSETTO:+0200
TZNAME:CEST
DTSTART:20170326T010000
END:DAYLIGHT
BEGIN:STANDARD
TZOFFSETFROM:+0200
TZOFFSETTO:+0100
TZNAME:CET
DTSTART:20171029T010000
END:STANDARD
END:VTIMEZONE
BEGIN:VEVENT
DTSTART;TZID=Europe/Stockholm:20170815T110000
DTEND;TZID=Europe/Stockholm:20170815T170000
DTSTAMP:20260420T175917
CREATED:20170719T122911Z
LAST-MODIFIED:20170719T122911Z
UID:13283-1502794800-1502816400@arkiv.barniuppsala.se
SUMMARY:Berätta om dig själv genom konst
DESCRIPTION:Konstläger för unga\nKonstläger för unga 13-16 år under fyra dagar på Uppsala konstmuseum. \nJust nu visas spännande exempel på porträtt i lera\, teckning och måleri på Uppsala konstmuseum. Hur kan en selfie se ut\, och kan man jobba vidare med temat i andra material? Lerinstallationer utomhus\, eller animationer och teckning med sprayfärg? \nGruppens arbete leds av en erfaren konstpedagog\, lägret äger rum 12.00-16.00 alla fyra dagarna. \nTa med egen lunch. \nAnmälan görs senast 8/8 till konstmuseum@uppsala.se \nBild från pixabay.com \n0SHARESDela eventet
URL:https://arkiv.barniuppsala.se/event/beratta-om-dig-sjalv-genom-konst/2017-08-15/
LOCATION:Uppsala konstmuseum\, Drottnings Christinas väg 1E\, Uppsala\, 752 37\, Sverige
CATEGORIES:Skapande och Kreativitet,Sommarlov,Ungdom
ATTACH;FMTTYPE=image/jpeg:https://arkiv.barniuppsala.se/wp-content/uploads/2017/05/sculpture-2462466_640.jpg
ORGANIZER;CN="Uppsala%20konstmuseum":MAILTO:konstmuseum@uppsala.se
GEO:59.8532935;17.6351313
X-APPLE-STRUCTURED-LOCATION;VALUE=URI;X-ADDRESS=Uppsala konstmuseum Drottnings Christinas väg 1E Uppsala 752 37 Sverige;X-APPLE-RADIUS=500;X-TITLE=Drottnings Christinas väg 1E:geo:17.6351313,59.8532935
END:VEVENT
END:VCALENDAR