BEGIN:VCALENDAR
VERSION:2.0
PRODID:-//Arkiv för Barn i Uppsala - ECPv5.1.6//NONSGML v1.0//EN
CALSCALE:GREGORIAN
METHOD:PUBLISH
X-WR-CALNAME:Arkiv för Barn i Uppsala
X-ORIGINAL-URL:https://arkiv.barniuppsala.se
X-WR-CALDESC:Händelser för Arkiv för Barn i Uppsala
BEGIN:VTIMEZONE
TZID:Europe/Stockholm
BEGIN:DAYLIGHT
TZOFFSETFROM:+0100
TZOFFSETTO:+0200
TZNAME:CEST
DTSTART:20200329T010000
END:DAYLIGHT
BEGIN:STANDARD
TZOFFSETFROM:+0200
TZOFFSETTO:+0100
TZNAME:CET
DTSTART:20201025T010000
END:STANDARD
END:VTIMEZONE
BEGIN:VEVENT
DTSTART;TZID=Europe/Stockholm:20200119T140000
DTEND;TZID=Europe/Stockholm:20200119T155000
DTSTAMP:20260419T195637
CREATED:20200113T155915Z
LAST-MODIFIED:20200113T155915Z
UID:54637-1579442400-1579449000@arkiv.barniuppsala.se
SUMMARY:Cats - musikal | Blå Wingen Bio - Knivsta
DESCRIPTION:Cats – musikal| Blå Wingen Bio – Knivsta\nDen Oscar belönade regissören Tom Hooper tar Andrew Lloyd Webbers rekordbrytande musikal “Cats” till vita duken i en banbrytande filmatisering med ikonisk musik\, fantastiska skådespeare\, dansare i världsklass\, spektakulära miljöer\, otrolig ny teknologi och alla tänkbara dansstilar. \nDatum och tid: \nSöndagen den 19 januari 2020 kl: 14:00\nSöndagen den 19 januari 2020 kl: 19:00 \nLängd: 1 timme 50 minuter\nPlats: Blå Wingen\, Vackerberga 35 741 95 Knivsta\nSpråk: Engelska\nÅlder: Från 7 år\nPris: 100 kronor\nBiljett:   \nSMS:a vilken film\, tidpunkt\, antal biljetter och i vilket namn till Tel. 070-620 57 69 eller mejla vilken film\, tidpunkt\, antal biljetter och i vilket namn till e-post: wingenbio@telia.com senast 1 timme innan föreställningen börjar (för att de ska hinna läsa det) Bokningen hålls i 15 minuter innan filmen börjar. Betalning sker med Swish och kontanter. \nAnsvarig: Nina Pihl Tel: 070-620 57 69 E-post: wingenbio@telia.com \n \n\nOm Blå Wingen\nBygdegården Blå Wingen i Husby-Långhundra är bygdens viktiga lokal för samvaro av alla slag. Den ägs av bygdegårdsföreningen Blå Wingen\, en förening som välkomnar alla Långhundrabor som medlemmar. \n\nBesök gärna länkarna nedan (externa länkar öppnas i ett nytt fönster/flik).\nBlå Wingen Bio | Kommande event inom bio \nBild: Pixabay \n0SHARESDela eventet
URL:https://arkiv.barniuppsala.se/event/bio-cats-bla-wingen-bio-knivsta/2020-01-19/
LOCATION:Blå Wingen Bio\, Vackerberga 35\, Uppsala\, 741 95\, Sverige
CATEGORIES:Ålderskategori,Anmälan / Kostnad,Barn,Barnbio,Bio,Familj,Flerspråkighet,Förköp / Bokning,Geografisk kategori,Identitet,Knivsta Kommun,Sång och Musik,Teater och Bio,Ungdom
ATTACH;FMTTYPE=image/jpeg:https://arkiv.barniuppsala.se/wp-content/uploads/2020/01/1-kinonu.jpg
ORGANIZER;CN="Bl%C3%A5%20Wingen%20Bio":MAILTO:wingenbio@telia.com
END:VEVENT
END:VCALENDAR