BEGIN:VCALENDAR
VERSION:2.0
PRODID:-//Arkiv för Barn i Uppsala - ECPv5.1.6//NONSGML v1.0//EN
CALSCALE:GREGORIAN
METHOD:PUBLISH
X-WR-CALNAME:Arkiv för Barn i Uppsala
X-ORIGINAL-URL:https://arkiv.barniuppsala.se
X-WR-CALDESC:Händelser för Arkiv för Barn i Uppsala
BEGIN:VTIMEZONE
TZID:Europe/Stockholm
BEGIN:DAYLIGHT
TZOFFSETFROM:+0100
TZOFFSETTO:+0200
TZNAME:CEST
DTSTART:20170326T010000
END:DAYLIGHT
BEGIN:STANDARD
TZOFFSETFROM:+0200
TZOFFSETTO:+0100
TZNAME:CET
DTSTART:20171029T010000
END:STANDARD
END:VTIMEZONE
BEGIN:VEVENT
DTSTART;TZID=Europe/Stockholm:20170118T130000
DTEND;TZID=Europe/Stockholm:20170118T150000
DTSTAMP:20260420T074142
CREATED:20170116T125858Z
LAST-MODIFIED:20170116T125858Z
UID:10274-1484744400-1484751600@arkiv.barniuppsala.se
SUMMARY:Bio – Hundraettåringen
DESCRIPTION:På Onsdag\, En Dag bio med fikapaus. \nI Heby kommun. Alla är välkomna barn från 11år. \nHundraettåringen som smet från notan och försvann. \n  \n0SHARESDela eventet
URL:https://arkiv.barniuppsala.se/event/bio-hundraettaringen/
LOCATION:Östervåla\,  Kyrkvägen 2B\, uppsala\, 74046\, Sverige
CATEGORIES:Bio,Teater,Ungdom
ATTACH;FMTTYPE=image/jpeg:https://arkiv.barniuppsala.se/wp-content/uploads/2017/01/östervåla6.jpg
GEO:60.1807413;17.1795163
X-APPLE-STRUCTURED-LOCATION;VALUE=URI;X-ADDRESS=Östervåla  Kyrkvägen 2B uppsala 74046 Sverige;X-APPLE-RADIUS=500;X-TITLE=Kyrkvägen 2B:geo:17.1795163,60.1807413
END:VEVENT
END:VCALENDAR