BEGIN:VCALENDAR
VERSION:2.0
PRODID:-//Arkiv för Barn i Uppsala - ECPv5.1.6//NONSGML v1.0//EN
CALSCALE:GREGORIAN
METHOD:PUBLISH
X-WR-CALNAME:Arkiv för Barn i Uppsala
X-ORIGINAL-URL:https://arkiv.barniuppsala.se
X-WR-CALDESC:Händelser för Arkiv för Barn i Uppsala
BEGIN:VTIMEZONE
TZID:Europe/Stockholm
BEGIN:DAYLIGHT
TZOFFSETFROM:+0100
TZOFFSETTO:+0200
TZNAME:CEST
DTSTART:20150329T010000
END:DAYLIGHT
BEGIN:STANDARD
TZOFFSETFROM:+0200
TZOFFSETTO:+0100
TZNAME:CET
DTSTART:20151025T010000
END:STANDARD
END:VTIMEZONE
BEGIN:VEVENT
DTSTART;TZID=Europe/Stockholm:20151205T120000
DTEND;TZID=Europe/Stockholm:20151205T150000
DTSTAMP:20260419T164440
CREATED:20151201T093942Z
LAST-MODIFIED:20151201T095618Z
UID:4533-1449316800-1449327600@arkiv.barniuppsala.se
SUMMARY:Biotopia i Sävja Kulturcentrum
DESCRIPTION:Familjeaktivitet med Biotopia i Sävja kulturcentrum. Temat: Återbruksverkstad. \nKl 12-15 kan man får lära sig mer om naturvetenskap med Biotopias pedagoger. \nBarnen ska ha en vuxen med sig. Det är gratis! \nBild: pixabay.com. \n0SHARESDela eventet
URL:https://arkiv.barniuppsala.se/event/biotopia-i-savja-kulturcentrum/
LOCATION:Sävja kulturcentrum\, Västgötaresan\, Uppsala\, 757 54\, Sverige
ATTACH;FMTTYPE=image/jpeg:https://arkiv.barniuppsala.se/wp-content/uploads/2015/12/omaka.jpg
GEO:59.810706;17.702299
X-APPLE-STRUCTURED-LOCATION;VALUE=URI;X-ADDRESS=Sävja kulturcentrum Västgötaresan Uppsala 757 54 Sverige;X-APPLE-RADIUS=500;X-TITLE=Västgötaresan:geo:17.702299,59.810706
END:VEVENT
END:VCALENDAR