BEGIN:VCALENDAR
VERSION:2.0
PRODID:-//Arkiv för Barn i Uppsala - ECPv5.1.6//NONSGML v1.0//EN
CALSCALE:GREGORIAN
METHOD:PUBLISH
X-WR-CALNAME:Arkiv för Barn i Uppsala
X-ORIGINAL-URL:https://arkiv.barniuppsala.se
X-WR-CALDESC:Händelser för Arkiv för Barn i Uppsala
BEGIN:VTIMEZONE
TZID:Europe/Stockholm
BEGIN:DAYLIGHT
TZOFFSETFROM:+0100
TZOFFSETTO:+0200
TZNAME:CEST
DTSTART:20160327T010000
END:DAYLIGHT
BEGIN:STANDARD
TZOFFSETFROM:+0200
TZOFFSETTO:+0100
TZNAME:CET
DTSTART:20161030T010000
END:STANDARD
END:VTIMEZONE
BEGIN:VEVENT
DTSTART;TZID=Europe/Stockholm:20161104T130000
DTEND;TZID=Europe/Stockholm:20161104T140000
DTSTAMP:20260421T071710
CREATED:20161103T153103Z
LAST-MODIFIED:20161103T153103Z
UID:9102-1478264400-1478268000@arkiv.barniuppsala.se
SUMMARY:Bland skelett och andra döingar and verkstad
DESCRIPTION:Bland skelett och andra döingar\nUpplandsmuseet. Uppsala\nUpptäckarvandring. Vi letar efter skelett och döingar i alla museets utställningar. \nFör alla modiga barn 6–12 år.\nUpplandsmuseet\, samling i receptionen.\nOBS! Max 12 barn. Hämta gratis biljett från kl. 12 samma dag. \n0SHARESDela eventet
URL:https://arkiv.barniuppsala.se/event/bland-skelett-och-andra-doingar-verkstad/
LOCATION:Upplandsmuseet (Museet)\, S:t Eriks torg 10\, Uppsala\, 753 10\, Sverige
CATEGORIES:Höstlov,Ungdom
ATTACH;FMTTYPE=image/jpeg:https://arkiv.barniuppsala.se/wp-content/uploads/2016/11/skelet-museet.jpg
ORGANIZER;CN="Upplandsmuseet":MAILTO:museibutiken@upplandsmuseet.se
GEO:59.85895;17.634901
X-APPLE-STRUCTURED-LOCATION;VALUE=URI;X-ADDRESS=Upplandsmuseet (Museet) S:t Eriks torg 10 Uppsala 753 10 Sverige;X-APPLE-RADIUS=500;X-TITLE=S:t Eriks torg 10:geo:17.634901,59.85895
END:VEVENT
END:VCALENDAR