BEGIN:VCALENDAR
VERSION:2.0
PRODID:-//Arkiv för Barn i Uppsala - ECPv5.1.6//NONSGML v1.0//EN
CALSCALE:GREGORIAN
METHOD:PUBLISH
X-WR-CALNAME:Arkiv för Barn i Uppsala
X-ORIGINAL-URL:https://arkiv.barniuppsala.se
X-WR-CALDESC:Händelser för Arkiv för Barn i Uppsala
BEGIN:VTIMEZONE
TZID:Europe/Stockholm
BEGIN:DAYLIGHT
TZOFFSETFROM:+0100
TZOFFSETTO:+0200
TZNAME:CEST
DTSTART:20160327T010000
END:DAYLIGHT
BEGIN:STANDARD
TZOFFSETFROM:+0200
TZOFFSETTO:+0100
TZNAME:CET
DTSTART:20161030T010000
END:STANDARD
END:VTIMEZONE
BEGIN:VEVENT
DTSTART;TZID=Europe/Stockholm:20161121T190000
DTEND;TZID=Europe/Stockholm:20161121T200000
DTSTAMP:20260420T150933
CREATED:20161109T095356Z
LAST-MODIFIED:20161121T101522Z
UID:9225-1479754800-1479758400@arkiv.barniuppsala.se
SUMMARY:Blomkonsert med Enköpings Kulturskola
DESCRIPTION:Blomkonsert med deras andraårselever på Kulturhus Joar. \nNär: Måndag 21 november kl. 19.00 \nEntrékostnad: Fri entré. \nOm Kulturskolan i Enköping:  Kulturskolan i Enköping erbjuder undervisning för barn\, ungdomar och vuxna inom områdena musik\, dans och drama/teater. De träffar cirka 1 300 elever varje vecka i våra ämneskurser\, och utöver det träffar vi barn på de flesta av kommunens grundskolor i bland annat musiklek i förskoleklass och kompanjonlärarskap i musik i årskurs 2. \n  \nBild hämtad från pixabay.com \n  \n0SHARESDela eventet
URL:https://arkiv.barniuppsala.se/event/blomkonsert-enkopings-kulturskola/
LOCATION:Kulturhuset Joar\, Ågatan 29\, Enköping\, 745 31\, Sverige
CATEGORIES:Sång och Musik,Teater och Bio
ATTACH;FMTTYPE=image/png:https://arkiv.barniuppsala.se/wp-content/uploads/2016/10/hopppande-ungdomar-e1477907157548.png
ORGANIZER;CN="Kulturskolan%20Enk%C3%B6ping":MAILTO:kulturskolan@enkoping.se
GEO:59.6338936;17.0735197
X-APPLE-STRUCTURED-LOCATION;VALUE=URI;X-ADDRESS=Kulturhuset Joar Ågatan 29 Enköping 745 31 Sverige;X-APPLE-RADIUS=500;X-TITLE=Ågatan 29:geo:17.0735197,59.6338936
END:VEVENT
END:VCALENDAR