BEGIN:VCALENDAR
VERSION:2.0
PRODID:-//Arkiv för Barn i Uppsala - ECPv5.1.6//NONSGML v1.0//EN
CALSCALE:GREGORIAN
METHOD:PUBLISH
X-WR-CALNAME:Arkiv för Barn i Uppsala
X-ORIGINAL-URL:https://arkiv.barniuppsala.se
X-WR-CALDESC:Händelser för Arkiv för Barn i Uppsala
BEGIN:VTIMEZONE
TZID:Europe/Stockholm
BEGIN:DAYLIGHT
TZOFFSETFROM:+0100
TZOFFSETTO:+0200
TZNAME:CEST
DTSTART:20170326T010000
END:DAYLIGHT
BEGIN:STANDARD
TZOFFSETFROM:+0200
TZOFFSETTO:+0100
TZNAME:CET
DTSTART:20171029T010000
END:STANDARD
END:VTIMEZONE
BEGIN:VEVENT
DTSTART;TZID=Europe/Stockholm:20170411T150000
DTEND;TZID=Europe/Stockholm:20170328T180000
DTSTAMP:20260422T235818
CREATED:20170328T130128Z
LAST-MODIFIED:20170328T130254Z
UID:12134-1491922800-1490724000@arkiv.barniuppsala.se
SUMMARY:Påsklov: Bokåtervinning\, gör något nytt av gamla böcker!
DESCRIPTION:Påsklov: Bokåtervinning\, gör något nytt av gamla böcker! \nSara Blackarm guidar alla intresserade i kul och kreativt pyssel.\nAktivitet som passar barn från 8 år. \nGränbybiblioteket\, tisdag 11 april kl. 14. \nFöranmälan till biblioteket\, telefon: 018-727 57 42 eller E-post: granbybiblioteket@uppsala.se \nBild: pixabay.com. \n0SHARESDela eventet
URL:https://arkiv.barniuppsala.se/event/bokatervinning-gor-nagot-nytt-av-gamla-bocker/
LOCATION:Gränbybiblioteket\, Liljeforstorg 1\, Uppsala\, 754 29\, Sverige
CATEGORIES:Barn,Bibliotek,Påsklov,Pyssel,Skapande och Kreativitet
ATTACH;FMTTYPE=image/jpeg:https://arkiv.barniuppsala.se/wp-content/uploads/2017/03/bok_gammal_stor.jpg
ORGANIZER;CN="Bibliotek%20Uppsala":MAILTO:kundtjanst@bibliotekuppsala.se
GEO:59.8718525;17.6582693
X-APPLE-STRUCTURED-LOCATION;VALUE=URI;X-ADDRESS=Gränbybiblioteket Liljeforstorg 1 Uppsala 754 29 Sverige;X-APPLE-RADIUS=500;X-TITLE=Liljeforstorg 1:geo:17.6582693,59.8718525
END:VEVENT
END:VCALENDAR