BEGIN:VCALENDAR
VERSION:2.0
PRODID:-//Arkiv för Barn i Uppsala - ECPv5.1.6//NONSGML v1.0//EN
CALSCALE:GREGORIAN
METHOD:PUBLISH
X-WR-CALNAME:Arkiv för Barn i Uppsala
X-ORIGINAL-URL:https://arkiv.barniuppsala.se
X-WR-CALDESC:Händelser för Arkiv för Barn i Uppsala
BEGIN:VTIMEZONE
TZID:Europe/Stockholm
BEGIN:DAYLIGHT
TZOFFSETFROM:+0100
TZOFFSETTO:+0200
TZNAME:CEST
DTSTART:20150329T010000
END:DAYLIGHT
BEGIN:STANDARD
TZOFFSETFROM:+0200
TZOFFSETTO:+0100
TZNAME:CET
DTSTART:20151025T010000
END:STANDARD
END:VTIMEZONE
BEGIN:VEVENT
DTSTART;TZID=Europe/Stockholm:20150912T130000
DTEND;TZID=Europe/Stockholm:20150912T180000
DTSTAMP:20260420T005145
CREATED:20150908T100151Z
LAST-MODIFIED:20150908T100151Z
UID:3642-1442062800-1442080800@arkiv.barniuppsala.se
SUMMARY:Bokdamm på Läslusen
DESCRIPTION:Fiska efter böcker eller få boktips från den kunniga personalen. \nKulturnatts-pris på flera böcker under kvällen. \n0SHARESDela eventet
URL:https://arkiv.barniuppsala.se/event/bokdamm-pa-laslusen/
LOCATION:Läslusen\, Drottninggatan 6\, Uppsala\, 753 10
CATEGORIES:Kunskap och Lärande,Sagostund – barn
GEO:59.8573174;17.6361971
X-APPLE-STRUCTURED-LOCATION;VALUE=URI;X-ADDRESS=Läslusen Drottninggatan 6 Uppsala 753 10;X-APPLE-RADIUS=500;X-TITLE=Drottninggatan 6:geo:17.6361971,59.8573174
END:VEVENT
END:VCALENDAR