BEGIN:VCALENDAR
VERSION:2.0
PRODID:-//Arkiv för Barn i Uppsala - ECPv5.1.6//NONSGML v1.0//EN
CALSCALE:GREGORIAN
METHOD:PUBLISH
X-WR-CALNAME:Arkiv för Barn i Uppsala
X-ORIGINAL-URL:https://arkiv.barniuppsala.se
X-WR-CALDESC:Händelser för Arkiv för Barn i Uppsala
BEGIN:VTIMEZONE
TZID:Europe/Stockholm
BEGIN:DAYLIGHT
TZOFFSETFROM:+0100
TZOFFSETTO:+0200
TZNAME:CEST
DTSTART:20200329T010000
END:DAYLIGHT
BEGIN:STANDARD
TZOFFSETFROM:+0200
TZOFFSETTO:+0100
TZNAME:CET
DTSTART:20201025T010000
END:STANDARD
END:VTIMEZONE
BEGIN:VEVENT
DTSTART;TZID=Europe/Stockholm:20201010T110000
DTEND;TZID=Europe/Stockholm:20201010T150000
DTSTAMP:20260421T013116
CREATED:20200924T134834Z
LAST-MODIFIED:20201009T112212Z
UID:69502-1602327600-1602342000@arkiv.barniuppsala.se
SUMMARY:INSTÄLLT - Brädspelmed BirdieCon på Uppsala stadsbibliotek
DESCRIPTION:INSTÄLLT – Brädspelmed BirdieCon på Uppsala stadsbibliotek\n“Hej.\nPå grund av rådande omständigheter som råder just nu i Uppsala regionen med ökad smittspridning så behöver vi tyvärr ställa in vårt evenemang på Uppsala stadsbibliotek som skulle ha gått av stapeln lördag den 10 oktober. \nVi arbetar fortfarande utifrån att kunna hålla i Birdiecon höst vid Studiefrämjandets  lokaler helgen v.44 under höstlovet. \nVi kommer fortfarande att hålla en utlottning av några av de spel\, böcker och promos som var tänkt att lottas ut under evenemanget på Stadsbiblioteket.. För att kunna ta del i utlottningen så behöver du bli medlem i vår förening vilket är gratis och enbart gäller för ett år. \nDu anmäler dig på Sveroks hemsida genom följande länk: https://ebas.sverok.se/signups/index/16652 \nVinnarna får i vinstordningen välja någon av dessa : \nBoken “Kung Pow Game Over”\nSpelet “Exploding kittens Newbie edition”\nSverok halsduk\nRollspelsboken “Flodskörden” (Ur Varselklotet)\nDobble demo\nSpelet “Hint” (från skaparna av Besserwisser) \nHälsningar\nBirdiecon” \nVälkommen på spellördag med BirdieCon!\nÄlskar du redan brädspel\, eller vill du testa något nytt? \nKom och spela brädspel och få tips och råd på spel som är roliga att spela med familjen såväl som med kompisgänget. \nLåna spel från en varierad spelbar och var med på utlottningar av demospel och annat som kommer ske under dagen. \nDatum: Lördagen den 10 oktober 2020\nTid: 11.00-15.00\nPlats: Uppsala Stadsbibliotek\nÅlder: Alla som gillar brädspel\nPris: Fri entré\nBiljett/anmälan: Drop-in\nArrangör: Uppsala stadsbibliotek tillsammans med Birdiecon \n  \n\nBirdieCon\nBirdieCon är en analog spelfestival i Uppsala. Brädspelsfestivalen lanserades tillsammans med den stora datorfestivalen Birdie för första gången år 2018 och ägde rum på IFU Arena. \nBesökarna fick möjlighet att låna och testa spännande brädspel\, kortspel\, figurspel\, med mera\, och delta i olika spel- och icke spelrelaterade aktiviteter.\nMan höll bland annat: \n\nspelturneringar med prispengar\nutlottningar och andra tävlingar\nsamtal med föreningar\nsponsrade montrar\nsamt. och inte minst\, utrymme och plats för spontanspel besökare emellan.\n\nArrangemanget hölls i samarbete med några av Uppsalas största spelföreningar tillsammans med de ledande spelbutikerna\, och med stöd av Studiefrämjandet samt. Sverok Mälardalen. Bland de representerade föreningarna fanns till exempel Starfighters\, Atlantis\, Queer & Nerdy\, BORK\, med flera\, och bland spelbutikerna Fantasia och Prisfyndet. \nÅrets festival 2020 skulle ha gått av stapeln i maj men ställdes in med anledning av corona-viruset. \nI år anordnas istället Birdiecon höst 2020\, ett mindre och begränsat event\, i andra lokaler\, under den sista helgen av höstlovet. \nSpellördagen på stadsbiblioteket är en liten liten försmak i upptakten till BirdieCon höst 2020. \n  \n\nBesök gärna länkarna nedan (externa länkar öppnas i ett nytt fönster/flik).\nBirdiecon | Bibliotek Uppsala | Kommande event för dig som gillar spel \nFoto: tookapic \n0SHARESDela eventet
URL:https://arkiv.barniuppsala.se/event/bradspel-birdiecon-uppsala-stadsbibliotek/
LOCATION:Uppsala stadsbibliotek\, Svartbäcksgatan 17\, Uppsala\, 753 75\, Sverige
CATEGORIES:Ålderskategori,Anmälan / Kostnad,Barn,Birdie,Centrum,Eventkategorier,Familj,För föräldrar,Geografisk kategori,Gratis,Ingen föranmälan,Kunskap och Lärande,Prova på,Spel & tävling,Ungdom,? Uppsala
ATTACH;FMTTYPE=image/jpeg:https://arkiv.barniuppsala.se/wp-content/uploads/2020/09/board-game-933165_12802-e1600865634202.jpg
ORGANIZER;CN="Uppsala%20stadsbibliotek":MAILTO: stadsbibli.inf@uppsala.se
GEO:59.8606206;17.6353278
X-APPLE-STRUCTURED-LOCATION;VALUE=URI;X-ADDRESS=Uppsala stadsbibliotek Svartbäcksgatan 17 Uppsala 753 75 Sverige;X-APPLE-RADIUS=500;X-TITLE=Svartbäcksgatan 17:geo:17.6353278,59.8606206
END:VEVENT
END:VCALENDAR