BEGIN:VCALENDAR
VERSION:2.0
PRODID:-//Arkiv för Barn i Uppsala - ECPv5.1.6//NONSGML v1.0//EN
CALSCALE:GREGORIAN
METHOD:PUBLISH
X-WR-CALNAME:Arkiv för Barn i Uppsala
X-ORIGINAL-URL:https://arkiv.barniuppsala.se
X-WR-CALDESC:Händelser för Arkiv för Barn i Uppsala
BEGIN:VTIMEZONE
TZID:Europe/Stockholm
BEGIN:DAYLIGHT
TZOFFSETFROM:+0100
TZOFFSETTO:+0200
TZNAME:CEST
DTSTART:20160327T010000
END:DAYLIGHT
BEGIN:STANDARD
TZOFFSETFROM:+0200
TZOFFSETTO:+0100
TZNAME:CET
DTSTART:20161030T010000
END:STANDARD
END:VTIMEZONE
BEGIN:VEVENT
DTSTART;TZID=Europe/Stockholm:20161228T140000
DTEND;TZID=Europe/Stockholm:20161228T160000
DTSTAMP:20260421T123233
CREATED:20161219T091450Z
LAST-MODIFIED:20161219T091609Z
UID:9865-1482933600-1482940800@arkiv.barniuppsala.se
SUMMARY:Buktalarskola
DESCRIPTION:Linus och Linnea lär dig grunderna i buktaleri. \nAlla deltagare får en enklare handdocka och kan sedan fortsätta öva hemma under jullovet. \nFör barn 9-12 år. Begränsat antal platser. \nFöranmälan till biblioteket 018-727 52 92. \ngoteborgsmagiskaklubb.se \n  \n0SHARESDela eventet
URL:https://arkiv.barniuppsala.se/event/buktalarskola/
LOCATION:Sävjabiblioteket\, Västgötaresan\, Uppsala\, 757 54\, Sverige
CATEGORIES:Jul,Ungdom
GEO:59.8085971;17.7022024
X-APPLE-STRUCTURED-LOCATION;VALUE=URI;X-ADDRESS=Sävjabiblioteket Västgötaresan Uppsala 757 54 Sverige;X-APPLE-RADIUS=500;X-TITLE=Västgötaresan:geo:17.7022024,59.8085971
END:VEVENT
END:VCALENDAR