BEGIN:VCALENDAR
VERSION:2.0
PRODID:-//Arkiv för Barn i Uppsala - ECPv5.1.6//NONSGML v1.0//EN
CALSCALE:GREGORIAN
METHOD:PUBLISH
X-WR-CALNAME:Arkiv för Barn i Uppsala
X-ORIGINAL-URL:https://arkiv.barniuppsala.se
X-WR-CALDESC:Händelser för Arkiv för Barn i Uppsala
BEGIN:VTIMEZONE
TZID:Europe/Stockholm
BEGIN:DAYLIGHT
TZOFFSETFROM:+0100
TZOFFSETTO:+0200
TZNAME:CEST
DTSTART:20160327T010000
END:DAYLIGHT
BEGIN:STANDARD
TZOFFSETFROM:+0200
TZOFFSETTO:+0100
TZNAME:CET
DTSTART:20161030T010000
END:STANDARD
END:VTIMEZONE
BEGIN:VEVENT
DTSTART;VALUE=DATE:20160111
DTEND;VALUE=DATE:20160118
DTSTAMP:20260422T125804
CREATED:20151230T091314Z
LAST-MODIFIED:20151230T091314Z
UID:5616-1452481200-1452999599@arkiv.barniuppsala.se
SUMMARY:Bygg ditt eget pepparkakshus och bär hit det!
DESCRIPTION:Tävling pågår och avslutas med utställning. En jury utser vinnare lördag 16 jan 14.00. \nGränby Caféet Ovan Där\, öppettider mån–fre 10–18\, lör–sön 11–17. Öppet under jul- och nyår: 28–30/12\, 4/1\, 10–18. 2–3/1\, 5/1\, 11–17. \n0SHARESDela eventet
URL:https://arkiv.barniuppsala.se/event/bygg-ditt-eget-pepparkakshus-och-bar-hit-det/
LOCATION:Gränby Centrum\, Marknadsgatan 1\, Uppsala\, 75460\, Sverige
CATEGORIES:Jul,Utställning
ATTACH;FMTTYPE=image/jpeg:https://arkiv.barniuppsala.se/wp-content/uploads/2015/12/Pepparkakshus.jpg
GEO:59.8771987;17.6740274
X-APPLE-STRUCTURED-LOCATION;VALUE=URI;X-ADDRESS=Gränby Centrum Marknadsgatan 1 Uppsala 75460 Sverige;X-APPLE-RADIUS=500;X-TITLE=Marknadsgatan 1:geo:17.6740274,59.8771987
END:VEVENT
END:VCALENDAR