BEGIN:VCALENDAR
VERSION:2.0
PRODID:-//Arkiv för Barn i Uppsala - ECPv5.1.6//NONSGML v1.0//EN
CALSCALE:GREGORIAN
METHOD:PUBLISH
X-WR-CALNAME:Arkiv för Barn i Uppsala
X-ORIGINAL-URL:https://arkiv.barniuppsala.se
X-WR-CALDESC:Händelser för Arkiv för Barn i Uppsala
BEGIN:VTIMEZONE
TZID:Europe/Stockholm
BEGIN:DAYLIGHT
TZOFFSETFROM:+0100
TZOFFSETTO:+0200
TZNAME:CEST
DTSTART:20180325T010000
END:DAYLIGHT
BEGIN:STANDARD
TZOFFSETFROM:+0200
TZOFFSETTO:+0100
TZNAME:CET
DTSTART:20181028T010000
END:STANDARD
END:VTIMEZONE
BEGIN:VEVENT
DTSTART;TZID=Europe/Stockholm:20180217T110000
DTEND;TZID=Europe/Stockholm:20180217T170000
DTSTAMP:20260420T004802
CREATED:20180214T135221Z
LAST-MODIFIED:20200201T030705Z
UID:18304-1518865200-1518886800@arkiv.barniuppsala.se
SUMMARY:Bygg en fågelholk på Biotopia
DESCRIPTION:Holkverkstad på Biotopia\nSnart är dags för vårens fåglar att börja leta bon! Det råder bostadsbrist i fågelvärlden och ett bra sätt att hjälpa till är att sätta upp en fågelholk. Du köper en byggsats (80:-) som du borrar\, skruvar och spikar ihop med hjälp av Biotopias personal. Om du vill kan du även måla din holk med utomhusfärg på egen hand på nedervåningen. \nHur fungerar en fågelfjäder och hur går det till att flyga? Undersök fjädrar i förstoring! Prova på att kryssa fåglar i parken. \nBiotopias utställningar och holkverkstad är öppen (drop-in) mellan kl 11-17 under perioden 17/2 – 4/3\, d.v.s. under sportlovsveckorna 8 och 9\, med undantag för må v 9 (26/2) då Biotopia är stängt. \nBild från pixabay.com \n0SHARESDela eventet
URL:https://arkiv.barniuppsala.se/event/bygg-en-fagelholk-pa-biotopia/2018-02-17/
LOCATION:Biotopia – Biologiska museet\, Vasagatan 4\, Uppsala\, 753 13\, Sverige
CATEGORIES:Barn,Djur,Skapande och Kreativitet,Sportlov,Ungdom
ATTACH;FMTTYPE=image/jpeg:https://arkiv.barniuppsala.se/wp-content/uploads/2018/02/nesting-box-2724799_640.jpg
ORGANIZER;CN="Biotopia":MAILTO:info@biotopia.nu
END:VEVENT
END:VCALENDAR