BEGIN:VCALENDAR
VERSION:2.0
PRODID:-//Arkiv för Barn i Uppsala - ECPv5.1.6//NONSGML v1.0//EN
CALSCALE:GREGORIAN
METHOD:PUBLISH
X-WR-CALNAME:Arkiv för Barn i Uppsala
X-ORIGINAL-URL:https://arkiv.barniuppsala.se
X-WR-CALDESC:Händelser för Arkiv för Barn i Uppsala
BEGIN:VTIMEZONE
TZID:Europe/Stockholm
BEGIN:DAYLIGHT
TZOFFSETFROM:+0100
TZOFFSETTO:+0200
TZNAME:CEST
DTSTART:20170326T010000
END:DAYLIGHT
BEGIN:STANDARD
TZOFFSETFROM:+0200
TZOFFSETTO:+0100
TZNAME:CET
DTSTART:20171029T010000
END:STANDARD
END:VTIMEZONE
BEGIN:VEVENT
DTSTART;TZID=Europe/Stockholm:20170425T160000
DTEND;TZID=Europe/Stockholm:20170425T170000
DTSTAMP:20260420T222615
CREATED:20170424T064554Z
LAST-MODIFIED:20170424T064554Z
UID:12461-1493136000-1493139600@arkiv.barniuppsala.se
SUMMARY:Club confetti 6-9 år
DESCRIPTION:Salabackekyrkan \nClub Confetti träffas i Salabackekyrkan där vi målar\, fotar och arbetar med skrot och lera utifrån olika teman. \nVi bakar\, leker och gör annat skoj också! Vi börjar varje tillfälle med fruktstund. \nVälkomna.!! \n0SHARESDela eventet
URL:https://arkiv.barniuppsala.se/event/club-confetti-6-9-ar/
LOCATION:Salabackekyrkan\, Lästmakargatan 7B\, Uppsala\, 754 34\, Sverige
CATEGORIES:Barn,Höstlov,Kunskap och Lärande,Lärande lek,Sång och Musik
ATTACH;FMTTYPE=image/jpeg:https://arkiv.barniuppsala.se/wp-content/uploads/2017/01/salabackekyrkan.jpg
GEO:59.8689818;17.6677928
X-APPLE-STRUCTURED-LOCATION;VALUE=URI;X-ADDRESS=Salabackekyrkan Lästmakargatan 7B Uppsala 754 34 Sverige;X-APPLE-RADIUS=500;X-TITLE=Lästmakargatan 7B:geo:17.6677928,59.8689818
END:VEVENT
END:VCALENDAR