BEGIN:VCALENDAR
VERSION:2.0
PRODID:-//Arkiv för Barn i Uppsala - ECPv5.1.6//NONSGML v1.0//EN
CALSCALE:GREGORIAN
METHOD:PUBLISH
X-WR-CALNAME:Arkiv för Barn i Uppsala
X-ORIGINAL-URL:https://arkiv.barniuppsala.se
X-WR-CALDESC:Händelser för Arkiv för Barn i Uppsala
BEGIN:VTIMEZONE
TZID:Europe/Stockholm
BEGIN:DAYLIGHT
TZOFFSETFROM:+0100
TZOFFSETTO:+0200
TZNAME:CEST
DTSTART:20160327T010000
END:DAYLIGHT
BEGIN:STANDARD
TZOFFSETFROM:+0200
TZOFFSETTO:+0100
TZNAME:CET
DTSTART:20161030T010000
END:STANDARD
END:VTIMEZONE
BEGIN:VEVENT
DTSTART;TZID=Europe/Stockholm:20161027T153000
DTEND;TZID=Europe/Stockholm:20161027T170000
DTSTAMP:20260421T022432
CREATED:20161024T073712Z
LAST-MODIFIED:20161024T073742Z
UID:8866-1477582200-1477587600@arkiv.barniuppsala.se
SUMMARY:Craftivism för barn och ungdomar 10-15 år
DESCRIPTION:Craftivism: Skapa- sticka\, fingervirka och brodera- och ställ ut runt om i huset och området! \nDe träffas varannan vecka förutom när det är lov och slöjdar ihop garnbomber och annat roligt. Var med och bestäm! För barn och ungdomar 10-15 år. \nVar: Sävjabiblioteket \n0SHARESDela eventet
URL:https://arkiv.barniuppsala.se/event/craftivism-barn-och-ungdomar-10-15-ar/2016-10-27/
LOCATION:Sävjabiblioteket\, Västgötaresan\, Uppsala\, 757 54\, Sverige
CATEGORIES:Bibliotek
GEO:59.8085971;17.7022024
X-APPLE-STRUCTURED-LOCATION;VALUE=URI;X-ADDRESS=Sävjabiblioteket Västgötaresan Uppsala 757 54 Sverige;X-APPLE-RADIUS=500;X-TITLE=Västgötaresan:geo:17.7022024,59.8085971
END:VEVENT
END:VCALENDAR