BEGIN:VCALENDAR
VERSION:2.0
PRODID:-//Arkiv för Barn i Uppsala - ECPv5.1.6//NONSGML v1.0//EN
CALSCALE:GREGORIAN
METHOD:PUBLISH
X-WR-CALNAME:Arkiv för Barn i Uppsala
X-ORIGINAL-URL:https://arkiv.barniuppsala.se
X-WR-CALDESC:Händelser för Arkiv för Barn i Uppsala
BEGIN:VTIMEZONE
TZID:Europe/Stockholm
BEGIN:DAYLIGHT
TZOFFSETFROM:+0100
TZOFFSETTO:+0200
TZNAME:CEST
DTSTART:20200329T010000
END:DAYLIGHT
BEGIN:STANDARD
TZOFFSETFROM:+0200
TZOFFSETTO:+0100
TZNAME:CET
DTSTART:20201025T010000
END:STANDARD
END:VTIMEZONE
BEGIN:VEVENT
DTSTART;TZID=Europe/Stockholm:20200226T180000
DTEND;TZID=Europe/Stockholm:20200226T200000
DTSTAMP:20260420T222437
CREATED:20200130T132935Z
LAST-MODIFIED:20200130T132935Z
UID:54397-1582740000-1582747200@arkiv.barniuppsala.se
SUMMARY:Vad är DCD (Motorisk koordinationsstörning)? | Infoteket
DESCRIPTION:Vad är DCD (Motorisk koordinationsstörning)? | Infoteket\nKine Johansen är fysioterapeut och specialist i pediatrik. Under kvällen berättar hon om DCD\, om aktuell forskning\, diagnostik och behandling. Motorisk koordinationsstörning (DCD) drabbar omkring 5–6 procent av alla barn. \n\nVad menas med diagnosen\, vem får diagnos?\nHur vanligt är DCD tillsammans med till exempel autism och adhd?\nKvarstår svårigheterna i vuxen ålder? Hur påverkas den psykiska hälsan?\nHur bör behandling och stöd utformas?\n\nDCD = Developmental coordination disorder \nDatum: Onsdagen den 26 februari 2020\nTid: 18:00-20:00\nPlats: Infoteket om funktionshinder\, S:t Johannesgatan 28 D\, Uppsala.\nÅlder: Ej angivet.\nPris: Fri entré.\nAnmälan: infoteket@regionuppsala.se eller 018-611 66 77.\nTillgänglighet: Hörslinga finns.\nArrangör: Infoteket\nÖvrigt: \nPå Infoteket finns en kompisbok om DCD. Här kan du läsa mer om den: Infotekets barnböcker \n\nInfoteket\nInfoteket om funktionshinder är till för dig som har en funktionsnedsättning\, är anhörig eller arbetar med barn\, ungdomar eller vuxna med funktionsnedsättningar i skola eller annan verksamhet. \nPå Infoteket kan du läsa och låna aktuell litteratur\, filmer\, söka information på webben\, tala med experter och lyssna på föreläsningar. Infoteket har lästips och faktablad om olika diagnoser och funktionsnedsättningar samt ett visningstorg för kommunikativt och kognitivt stöd. \nPå infoteket finns information om olika funktionsnedsättningar – främst medfödda eller tidigt förvärvade.\nKunnig personal kan svara på frågor och ge vägledning för vidare kunskapssökning.\nInfoteket är också ett utbildningscenter med brett utbud för personer som själva har någon funktionsnedsättning\, anhöriga\, personal och andra intresserade.\nPå Infotekets webbsida finns aktuell information\, infotekets faktatexter\, litteratur- och evenemangstips. På webbsidan kan man även ställa frågor till experter.\nArbetet med att ta fram faktatexter för infoteket görs av personal inom habilitering\, rehabilitering och psykiatri.\nInfoteket är en verksamhet inom Region Uppsala. \n\nBesök gärna länkarna nedan (externa länkar öppnas i ett nytt fönster/flik).\nInfoteket | Kommande event för/om dig med funktionsvariation | Kommande föreläsningar | Kommande event inom kunskap och lärande \nFoto: Pixabay \n0SHARESDela eventet
URL:https://arkiv.barniuppsala.se/event/dcd-infoteket/
LOCATION:Infoteket om funktionshinder\, S:t Johannesgatan 28 D\, Uppsala\, 75233
CATEGORIES:Ålderskategori,Anmälan,Anmälan / Kostnad,Barn,Eventkategorier,För anhöriga,För föräldrar,Föreläsning och Kurs,Funktionsvariationer,Geografisk kategori,Gratis,Identitet,Kåbo,Kunskap och Lärande,Uppsala Kommun,? Uppsala
ATTACH;FMTTYPE=image/jpeg:https://arkiv.barniuppsala.se/wp-content/uploads/2019/12/child-1864718_1280.jpg
ORGANIZER;CN="Infoteket%20om%20funktionshinder":MAILTO:infoteket@regionuppsala.se
GEO:59.8553013;17.6213622
X-APPLE-STRUCTURED-LOCATION;VALUE=URI;X-ADDRESS=Infoteket om funktionshinder S:t Johannesgatan 28 D Uppsala 75233;X-APPLE-RADIUS=500;X-TITLE=S:t Johannesgatan 28 D:geo:17.6213622,59.8553013
END:VEVENT
END:VCALENDAR