BEGIN:VCALENDAR
VERSION:2.0
PRODID:-//Arkiv för Barn i Uppsala - ECPv5.1.6//NONSGML v1.0//EN
CALSCALE:GREGORIAN
METHOD:PUBLISH
X-WR-CALNAME:Arkiv för Barn i Uppsala
X-ORIGINAL-URL:https://arkiv.barniuppsala.se
X-WR-CALDESC:Händelser för Arkiv för Barn i Uppsala
BEGIN:VTIMEZONE
TZID:Europe/Stockholm
BEGIN:DAYLIGHT
TZOFFSETFROM:+0100
TZOFFSETTO:+0200
TZNAME:CEST
DTSTART:20150329T010000
END:DAYLIGHT
BEGIN:STANDARD
TZOFFSETFROM:+0200
TZOFFSETTO:+0100
TZNAME:CET
DTSTART:20151025T010000
END:STANDARD
END:VTIMEZONE
BEGIN:VEVENT
DTSTART;TZID=Europe/Stockholm:20151107T130000
DTEND;TZID=Europe/Stockholm:20151029T170000
DTSTAMP:20260420T175808
CREATED:20151029T180022Z
LAST-MODIFIED:20151029T180022Z
UID:4155-1446901200-1446138000@arkiv.barniuppsala.se
SUMMARY:Den Lilla Teatern: Vill va med
DESCRIPTION:En lekfull och humoristisk musikteaterföreställning för barn 3-6 år\, med Musikteater 89 på Den Lilla Teatern. \nEn sagolik sagolek fritt efter Den Fula Ankungen av H.C. Andersen. Om att höra hit eller dit och vad nu det spelar för roll. Och att det går lika bra att vara olika. \nLördag 7 november kl 13. Biljettpris: barn och vuxna 80 kr\, boka på tel: 018-13 15 56. \n  \nBild: http://www.musikteater89.se \n0SHARESDela eventet
URL:https://arkiv.barniuppsala.se/event/den-lilla-teatern-vill-va-med/
LOCATION:Den Lilla Teatern\, S:t Persgatan 22\, Uppsala\, 753 29
CATEGORIES:Teater och Bio
ATTACH;FMTTYPE=image/jpeg:https://arkiv.barniuppsala.se/wp-content/uploads/2015/10/Villvamed01-320.jpg
GEO:59.8618076;17.6424759
X-APPLE-STRUCTURED-LOCATION;VALUE=URI;X-ADDRESS=Den Lilla Teatern S:t Persgatan 22 Uppsala 753 29;X-APPLE-RADIUS=500;X-TITLE=S:t Persgatan 22:geo:17.6424759,59.8618076
END:VEVENT
END:VCALENDAR